BEGIN:VCALENDAR
VERSION:2.0
PRODID:-//ChamberMaster//Event Calendar 2.0//EN
METHOD:PUBLISH
X-PUBLISHED-TTL:P3D
REFRESH-INTERVAL:P3D
CALSCALE:GREGORIAN
BEGIN:VEVENT
DTSTART:20180512T180000Z
DTEND:20180512T190000Z
X-MICROSOFT-CDO-ALLDAYEVENT:FALSE
SUMMARY:Fairy Gardens & Gnome Homes
DESCRIPTION:You and your child are invited to create Fairy Gardens and Gnome Homes at the Ruth Culver Community Library Saturday\, May 12 at 1:00 p.m.  The library is busy collecting materials for your creations\, but we suggest you scavenge around to see what special things you can find and bring.  This program is recommended for children 5 years and up. All children must be accompanied by an adult. Registration is required. Contact Beth at 643-8318 with questions.
X-ALT-DESC;FMTTYPE=text/html:You and your child are invited to create Fairy Gardens and Gnome Homes at the Ruth Culver Community Library Saturday\, May 12 at 1:00 p.m.&nbsp\; The library is busy collecting materials for your creations\, but we suggest you scavenge around to see what special things you can find and bring.&nbsp\; This program is recommended for children 5 years and up. All children must be accompanied by an adult. <strong>Registration is required. </strong>Contact Beth at 643-8318 with questions.
LOCATION:Ruth Culver Community Library 540 Water Street\, Prairie du Sac
UID:e.1184.18048
SEQUENCE:3
DTSTAMP:20260424T112109Z
URL:http://members.saukprairie.com/events/details/fairy-gardens-gnome-homes-18048
END:VEVENT

END:VCALENDAR
