BEGIN:VCALENDAR
VERSION:2.0
PRODID:-//ChamberMaster//Event Calendar 2.0//EN
METHOD:PUBLISH
X-PUBLISHED-TTL:P3D
REFRESH-INTERVAL:P3D
CALSCALE:GREGORIAN
BEGIN:VEVENT
DTSTART;VALUE=DATE:20160407
DTEND;VALUE=DATE:20160408
TRANSP:TRANSPARENT
X-MICROSOFT-CDO-ALLDAYEVENT:TRUE
SUMMARY:Faith Day Center Informational Sessions & Tours
DESCRIPTION:Our preferred pharmacy provider\, Eannelli Pharmacy\, will be attending to discuss their services. \n\n\n\nRefreshments will be provided!\n\n\n\nFaith Day Center is here to help you maintain the highest level of living. Our goal is to help you stay active and enjoy time with friends.\n\n\n\nWe are designed to offer participants daytime programing\, emotional supports and assistance with healthcare\, if needed.\n\n\n\nNot able to make it? Call us to schedule a private tour!
X-ALT-DESC;FMTTYPE=text/html:Our preferred pharmacy provider\, Eannelli Pharmacy\, will be attending to discuss their services.&nbsp\;<br />\n<br />\nRefreshments will be provided!<br />\n<br />\nFaith Day Center is here to help you maintain the highest level of living. Our goal is to help you stay active and enjoy time with friends.<br />\n<br />\nWe are designed to offer participants daytime programing\, emotional supports and assistance with healthcare\, if needed.<br />\n<br />\nNot able to make it? Call us to schedule a private tour!
LOCATION:431 Water Street Suite 103 Prairie du Sac
UID:e.1184.8435
SEQUENCE:3
DTSTAMP:20260426T033619Z
URL:http://members.saukprairie.com/events/details/faith-day-center-informational-sessions-tours-04-07-2016-8435
END:VEVENT

END:VCALENDAR
