BEGIN:VCALENDAR
VERSION:2.0
PRODID:-//ChamberMaster//Event Calendar 2.0//EN
METHOD:PUBLISH
X-PUBLISHED-TTL:P3D
REFRESH-INTERVAL:P3D
CALSCALE:GREGORIAN
BEGIN:VEVENT
DTSTART:20191208T220000Z
DTEND:20191208T233000Z
X-MICROSOFT-CDO-ALLDAYEVENT:FALSE
SUMMARY:Fall Choral Concert
DESCRIPTION:Fall Concert with the UW-Platteville Baraboo Sauk County Chorus. Under the direction of\n\nDeanna Horjus-Lang With the Driftless Brass Quintet
X-ALT-DESC;FMTTYPE=text/html:Fall Concert with the UW-Platteville Baraboo Sauk County Chorus.&nbsp\;Under the direction of<br />\nDeanna Horjus-Lang With the Driftless Brass Quintet
LOCATION:First Congregational Church\, 131 6th Avenue\, Baraboo\, WI
UID:e.1184.23736
SEQUENCE:3
DTSTAMP:20260423T070302Z
URL:http://members.saukprairie.com/events/details/fall-choral-concert-23736
END:VEVENT

END:VCALENDAR
