BEGIN:VCALENDAR
VERSION:2.0
PRODID:-//ChamberMaster//Event Calendar 2.0//EN
METHOD:PUBLISH
X-PUBLISHED-TTL:P3D
REFRESH-INTERVAL:P3D
CALSCALE:GREGORIAN
BEGIN:VEVENT
DTSTART:20241114T230000Z
DTEND:20241115T013000Z
X-MICROSOFT-CDO-ALLDAYEVENT:FALSE
SUMMARY:Fall Fundraiser - Safe Families for Children Sauk County
DESCRIPTION:The evening will include a cocktail hour\, bountiful dinner buffet\, raffle baskets\, and a chance to learn more about and financially support Safe Families for Children in Sauk County!\n\n \n\nThis is an 18 and older event.\n\n \n\n\nRegistration is now open! RSVP to attend or donate now at http://givebutter.com/sauknightofgiving\n\n \n\n\nSponsorship opportunities and raffle donations are being accepted now! Contact saukcounty@safefamilieswi.org for ways you can support this event.
X-ALT-DESC;FMTTYPE=text/html:<div>The evening will include a cocktail hour\, bountiful dinner buffet\, raffle baskets\, and a chance to learn more about and financially support Safe Families for Children in Sauk County!<br />\n&nbsp\;</div>\n\n<div>This is an 18 and older event.<br />\n&nbsp\;</div>\n\n<div>\n<div>Registration is now open! RSVP to attend or donate now at&nbsp\;<a href="http://givebutter.com/sauknightofgiving?fbclid=IwZXh0bgNhZW0CMTAAAR0fYE5Y1fxtbJnE1Zn7tdi3MOKpZcjdlD74pUurL20bl4RCCnk-Oyko6VQ_aem_pY74Cur4VwYogF8Y83dHAA" rel="nofollow noreferrer" style="box-sizing: border-box\; background-color: transparent\; color: rgb(34\, 72\, 132)\; text-decoration-line: none\; overflow-wrap: break-word\;" tabindex="0" target="_blank">http://givebutter.com/sauknightofgiving</a><br />\n&nbsp\;</div>\n</div>\n\n<div>Sponsorship opportunities and raffle donations are being accepted now! Contact&nbsp\;<u><a href="http://saukcounty@safefamilies.org/" style="box-sizing: border-box\; background-color: transparent\; color: rgb(34\, 72\, 132)\; text-decoration-line: none\; overflow-wrap: break-word\;">saukcounty@safefamilieswi.org</a></u>&nbsp\;for ways you can support this event.</div>\n
LOCATION:Vintage Brewing Co. 600 Water Street Sauk City\, WI 53583
UID:e.1184.33465
SEQUENCE:3
DTSTAMP:20260419T144239Z
URL:http://members.saukprairie.com/events/details/fall-fundraiser-safe-families-for-children-sauk-county-11-14-2024-33465
END:VEVENT

END:VCALENDAR
