BEGIN:VCALENDAR
VERSION:2.0
PRODID:-//ChamberMaster//Event Calendar 2.0//EN
METHOD:PUBLISH
X-PUBLISHED-TTL:P3D
REFRESH-INTERVAL:P3D
CALSCALE:GREGORIAN
BEGIN:VEVENT
DTSTART:20241005T130000Z
DTEND:20241005T180000Z
X-MICROSOFT-CDO-ALLDAYEVENT:FALSE
SUMMARY:Fall Harvest Festival - Sauk Prairie FFA Alumni
DESCRIPTION:Fall Harvest Festival - Sauk Prairie FFA Alumni\n\nFree Admissions | No Carry-Ins\n\n\n\nSaturday\, October 5th\n\n	Tractor Riders Breakfast @ The Gym Bar & Grill 8am\n	Alumni Food Vending 9:30am-1pm\n	Kids Pedal Pull 10am\n	Tractor Parade 10:30am\n	Tractor\, Truck & Car Show 11am-1pm\n\n\n\nOther vehicles and machinery on display at the event:\n\n	Wollersheim Winery Grape Harvester\n	Machinery from McFarlane's\n	Fire Truck\, Police & Village Vehicles\n\nThis year's featured tractor is the International Harvester (IH)\n\n\n\nDetails Visit:  www.saukprairieffa.com/harvestfest
X-ALT-DESC;FMTTYPE=text/html:Fall Harvest Festival - Sauk Prairie FFA Alumni<br />\nFree Admissions | No Carry-Ins<br />\n<br />\nSaturday\, October 5th\n<ul>\n	<li>Tractor Riders Breakfast @ The Gym Bar &amp\; Grill 8am</li>\n	<li>Alumni Food Vending 9:30am-1pm</li>\n	<li>Kids Pedal Pull 10am</li>\n	<li>Tractor Parade 10:30am</li>\n	<li>Tractor\, Truck &amp\; Car Show 11am-1pm</li>\n</ul>\n<br />\nOther vehicles and machinery on display at the event:\n<ul>\n	<li>Wollersheim Winery Grape Harvester</li>\n	<li>Machinery from McFarlane&#39\;s</li>\n	<li>Fire Truck\, Police &amp\; Village Vehicles</li>\n</ul>\nThis year&#39\;s featured tractor is the International Harvester (IH)<br />\n<br />\nDetails Visit:&nbsp\; www.saukprairieffa.com/harvestfest
LOCATION:Sauk Prairie FFA Alumni Park
UID:e.1184.33446
SEQUENCE:3
DTSTAMP:20260419T144045Z
URL:http://members.saukprairie.com/events/details/fall-harvest-festival-sauk-prairie-ffa-alumni-33446
END:VEVENT

END:VCALENDAR
