BEGIN:VCALENDAR
VERSION:2.0
PRODID:-//ChamberMaster//Event Calendar 2.0//EN
METHOD:PUBLISH
X-PUBLISHED-TTL:P3D
REFRESH-INTERVAL:P3D
CALSCALE:GREGORIAN
BEGIN:VEVENT
DTSTART;VALUE=DATE:20231007
DTEND;VALUE=DATE:20231008
TRANSP:TRANSPARENT
X-MICROSOFT-CDO-ALLDAYEVENT:TRUE
SUMMARY:Fall Movies on the Beer Garden
DESCRIPTION:Movie Night #1\n\nWhen: Saturday October 7th\, 6:30pm\n\nWhat: A screening of Hocus Pocus (1 hr and 36 min) followed by Hocus Pocus 2 (1 hr 47 min) movies will be done around 10pm\n\nMovie Night #2\n\nWhen: Saturday October 14th\, 6:30 pm\n\nWhat: Halloween Town (1 hr 24 min) followed by Halloween Town High ( 1 hr 22 min ) movies will be done around 10pm\n\nOther information:\n\nThese are free showings for all members of the public\n\nWe will have movie theatre style candies available for purchase\, and hot drinks for all ages. This is along with our usual beer\, wine\, and drinks options as well
X-ALT-DESC;FMTTYPE=text/html:<div class="xdj266r x11i5rnm xat24cr x1mh8g0r x1vvkbs" style="margin: 0px\; overflow-wrap: break-word\; font-family: &quot\;Segoe UI Historic&quot\;\, &quot\;Segoe UI&quot\;\, Helvetica\, Arial\, sans-serif\; color: rgb(5\, 5\, 5)\; font-size: 15px\;">Movie Night #1<br />\nWhen: Saturday October 7th\, 6:30pm<br />\nWhat: A screening of Hocus Pocus (1 hr and 36 min) followed by Hocus Pocus 2 (1 hr 47 min) movies will be done around 10pm</div>\n\n<div class="x11i5rnm xat24cr x1mh8g0r x1vvkbs xtlvy1s" style="margin: 0.5em 0px 0px\; overflow-wrap: break-word\; font-family: &quot\;Segoe UI Historic&quot\;\, &quot\;Segoe UI&quot\;\, Helvetica\, Arial\, sans-serif\; color: rgb(5\, 5\, 5)\; font-size: 15px\;">Movie Night #2<br />\nWhen: Saturday October 14th\, 6:30 pm<br />\nWhat: Halloween Town (1 hr 24 min) followed by Halloween Town High ( 1 hr 22 min ) movies will be done around 10pm</div>\n\n<div class="x11i5rnm xat24cr x1mh8g0r x1vvkbs xtlvy1s" style="margin: 0.5em 0px 0px\; overflow-wrap: break-word\; font-family: &quot\;Segoe UI Historic&quot\;\, &quot\;Segoe UI&quot\;\, Helvetica\, Arial\, sans-serif\; color: rgb(5\, 5\, 5)\; font-size: 15px\;">Other information:<br />\nThese are free showings for all members of the public<br />\nWe will have movie theatre style candies available for purchase\, and hot drinks for all ages. This is along with our usual beer\, wine\, and drinks options as well</div>\n
LOCATION:Vintage Brewing Co.
UID:e.1184.31171
SEQUENCE:3
DTSTAMP:20260420T062425Z
URL:http://members.saukprairie.com/events/details/fall-movies-on-the-beer-garden-31171
END:VEVENT

END:VCALENDAR
