BEGIN:VCALENDAR
VERSION:2.0
PRODID:-//ChamberMaster//Event Calendar 2.0//EN
METHOD:PUBLISH
X-PUBLISHED-TTL:P3D
REFRESH-INTERVAL:P3D
CALSCALE:GREGORIAN
BEGIN:VEVENT
DTSTART:20180815T230000Z
DTEND:20180816T000000Z
X-MICROSOFT-CDO-ALLDAYEVENT:FALSE
SUMMARY:Family Book Tasting
DESCRIPTION:Ms. Beth will share all new books during the Family Book Tasting at the Ruth Culver Community Library Wednesday\, August 15 at 6:00 p.m.  In addition to "tasting" books about a different character\, topic or format\, tasting of food will be included! Contact Beth at 643-8318 with questions.
X-ALT-DESC;FMTTYPE=text/html:Ms. Beth will share all new books during the Family Book Tasting at the Ruth Culver Community Library Wednesday\, August 15 at 6:00 p.m.&nbsp\; In addition to &quot\;tasting&quot\; books about a different character\, topic or format\, tasting of food will be included! Contact Beth at 643-8318 with questions.
LOCATION:Ruth Culver Community Library 540 Water Street\, Prairie du Sac
UID:e.1184.18123
SEQUENCE:3
DTSTAMP:20260424T065300Z
URL:http://members.saukprairie.com/events/details/family-book-tasting-18123
END:VEVENT

END:VCALENDAR
