BEGIN:VCALENDAR
VERSION:2.0
PRODID:-//ChamberMaster//Event Calendar 2.0//EN
METHOD:PUBLISH
X-PUBLISHED-TTL:P3D
REFRESH-INTERVAL:P3D
CALSCALE:GREGORIAN
BEGIN:VEVENT
DTSTART:20190521T220000Z
DTEND:20190521T230000Z
X-MICROSOFT-CDO-ALLDAYEVENT:FALSE
SUMMARY:Family Caregiver Support Group
DESCRIPTION:Do you provide care to a loved one? Do you deal with extra stress? A caregiver support group may be what you need! Caregiver support can provide emotional support\, educational material\, social support\, problem solving\, and encouragement. Light dinner will be served.
X-ALT-DESC;FMTTYPE=text/html:Do you provide care to a loved one? Do you deal with extra stress? A caregiver support group may be what you need! Caregiver support can provide emotional support\, educational material\, social support\, problem solving\, and encouragement. Light dinner will be served.
LOCATION:Sauk Prairie Community Center
UID:e.1184.21685
SEQUENCE:3
DTSTAMP:20260423T171805Z
URL:http://members.saukprairie.com/events/details/family-caregiver-support-group-05-21-2019-21685
END:VEVENT

END:VCALENDAR
