BEGIN:VCALENDAR
VERSION:2.0
PRODID:-//ChamberMaster//Event Calendar 2.0//EN
METHOD:PUBLISH
X-PUBLISHED-TTL:P3D
REFRESH-INTERVAL:P3D
CALSCALE:GREGORIAN
BEGIN:VEVENT
DTSTART:20230712T140000Z
DTEND:20230712T210000Z
X-MICROSOFT-CDO-ALLDAYEVENT:FALSE
SUMMARY:Family Day Open House & Job Fair
DESCRIPTION:Join Lamer's for Family Day Open House and Job Fair!\n\n\n\nFind out about the perfect part time job for you and your family.\n\n	School Bus Test Drives\n	Immediate Interviews\n	Activities for Kids\n	School Bus Safety Info.\n	Donate School Supplies for Local Schools\n\nBus Driver Requirements:\n\n\n	Must be 21+ and have 4 Years of experience driving any vehicle\n	Valid driver's license and good driving record\n	Ability to pass a physical\, drug screen\, and background check\n\nNO EXPERIENCE NEEDED. WE PROVIDE PAID  TRAINING
X-ALT-DESC;FMTTYPE=text/html:Join Lamer&#39\;s for Family Day Open House and Job Fair!<br />\n<br />\nFind out about the perfect part time job for you and your family.\n<ul>\n	<li>School Bus Test Drives</li>\n	<li>Immediate Interviews</li>\n	<li>Activities for Kids</li>\n	<li>School Bus Safety Info.</li>\n	<li>Donate School Supplies for Local Schools</li>\n</ul>\nBus Driver Requirements:\n\n<ul>\n	<li>Must be 21+ and have 4 Years of experience driving any&nbsp\;vehicle</li>\n	<li>Valid driver&#39\;s license and good driving record</li>\n	<li>Ability to pass a physical\, drug screen\, and background check</li>\n</ul>\nNO EXPERIENCE NEEDED. WE PROVIDE PAID&nbsp\; TRAINING
LOCATION:900 Phillips St. Sauk City
UID:e.1184.30881
SEQUENCE:3
DTSTAMP:20260420T102922Z
URL:http://members.saukprairie.com/events/details/family-day-open-house-job-fair-30881
END:VEVENT

END:VCALENDAR
