BEGIN:VCALENDAR
VERSION:2.0
PRODID:-//ChamberMaster//Event Calendar 2.0//EN
METHOD:PUBLISH
X-PUBLISHED-TTL:P3D
REFRESH-INTERVAL:P3D
CALSCALE:GREGORIAN
BEGIN:VEVENT
DTSTART:20190620T230000Z
DTEND:20190621T004500Z
X-MICROSOFT-CDO-ALLDAYEVENT:FALSE
SUMMARY:Family Movie & Dessert
DESCRIPTION:Join us in the community room at the Ruth Culver Community Library for a family-friendly movie and fun dessert! Contact the library at 608-643-8318 to find out what movie is being shown.
X-ALT-DESC;FMTTYPE=text/html:Join us in the community room at the Ruth Culver Community Library for a family-friendly movie and fun dessert! Contact the library at 608-643-8318 to find out what movie is being shown.
LOCATION:Ruth Culver Community Library 540 Water Street\, Prairie du Sac
UID:e.1184.22412
SEQUENCE:3
DTSTAMP:20260423T154610Z
URL:http://members.saukprairie.com/events/details/family-movie-dessert-06-20-2019-22412
END:VEVENT

END:VCALENDAR
