BEGIN:VCALENDAR
VERSION:2.0
PRODID:-//ChamberMaster//Event Calendar 2.0//EN
METHOD:PUBLISH
X-PUBLISHED-TTL:P3D
REFRESH-INTERVAL:P3D
CALSCALE:GREGORIAN
BEGIN:VEVENT
DTSTART:20180620T230000Z
DTEND:20180621T004500Z
X-MICROSOFT-CDO-ALLDAYEVENT:FALSE
SUMMARY:Family Movie & Dessert
DESCRIPTION:Join us in the community room at the Ruth Culver Community Library Wednesday\, June 20 at 6:00 p.m. for a family-friendly movie and fun dessert! (Movie to be announced.) Contact Beth at 643-8318 with questions.
X-ALT-DESC;FMTTYPE=text/html:Join us in the community room at the Ruth Culver Community Library Wednesday\, June 20 at 6:00 p.m. for a family-friendly movie and fun dessert! (Movie to be announced.) Contact Beth at 643-8318 with questions.
LOCATION:Ruth Culver Community Library 540 Water Street\, Prairie du Sac
UID:e.1184.18122
SEQUENCE:3
DTSTAMP:20260424T101126Z
URL:http://members.saukprairie.com/events/details/family-movie-dessert-18122
END:VEVENT

END:VCALENDAR
