BEGIN:VCALENDAR
VERSION:2.0
PRODID:-//ChamberMaster//Event Calendar 2.0//EN
METHOD:PUBLISH
X-PUBLISHED-TTL:P3D
REFRESH-INTERVAL:P3D
CALSCALE:GREGORIAN
BEGIN:VEVENT
DTSTART:20170720T230000Z
DTEND:20170721T004500Z
X-MICROSOFT-CDO-ALLDAYEVENT:FALSE
SUMMARY:Family Movie & Dessert Night
DESCRIPTION:Join us at 6:00 p.m. in the Ruth Culver Community Library's community room for monthly Family Movie Nights this summer. We'll also serve a special dessert! Contact the library at 643-8318 to find out what movie is being shown.
X-ALT-DESC;FMTTYPE=text/html:Join us at 6:00 p.m. in the Ruth Culver Community Library&#39\;s community room for monthly Family Movie Nights this summer. We&#39\;ll also serve a special dessert! Contact the library at 643-8318 to find out what movie is being shown.
LOCATION:Ruth Culver Community Library 540 Water Street Prairie du Sac
UID:e.1184.11679
SEQUENCE:3
DTSTAMP:20260425T034032Z
URL:http://members.saukprairie.com/events/details/family-movie-dessert-night-07-20-2017-11679
END:VEVENT

END:VCALENDAR
