BEGIN:VCALENDAR
VERSION:2.0
PRODID:-//ChamberMaster//Event Calendar 2.0//EN
METHOD:PUBLISH
X-PUBLISHED-TTL:P3D
REFRESH-INTERVAL:P3D
CALSCALE:GREGORIAN
BEGIN:VEVENT
DTSTART:20241022T213000Z
DTEND:20241022T233000Z
X-MICROSOFT-CDO-ALLDAYEVENT:FALSE
SUMMARY:Family Movie Night
DESCRIPTION:Join us for Family Movie Night for a heartwarming night of family\, music\, and adventure! We'll be watching "Coco\," a vibrant tale about a boy named Miguel who on Dia de Muertos embarks on an extraordinary journey to the Land of the Dead to reconnect with his family and discover his true passion. All ages are welcome! Rated: PG Run time: 1 hour 45 min.
X-ALT-DESC;FMTTYPE=text/html:Join us for Family Movie Night for a heartwarming night of family\, music\, and adventure! We&#39\;ll be watching &quot\;Coco\,&quot\; a vibrant tale about a boy named Miguel who on <em>Dia de Muertos</em> embarks on an extraordinary journey to the Land of the Dead to reconnect with his family and discover his true passion. All ages are welcome! Rated: PG Run time: 1 hour 45 min.
LOCATION:615 Phillips Blvd. Sauk City\, WI 53583
UID:e.1184.33473
SEQUENCE:3
DTSTAMP:20260419T160939Z
URL:http://members.saukprairie.com/events/details/family-movie-night-10-22-2024-33473
END:VEVENT

END:VCALENDAR
