BEGIN:VCALENDAR
VERSION:2.0
PRODID:-//ChamberMaster//Event Calendar 2.0//EN
METHOD:PUBLISH
X-PUBLISHED-TTL:P3D
REFRESH-INTERVAL:P3D
CALSCALE:GREGORIAN
BEGIN:VEVENT
DTSTART:20180117T003000Z
DTEND:20180117T013000Z
X-MICROSOFT-CDO-ALLDAYEVENT:FALSE
SUMMARY:Family Mysteries with Local Authors
DESCRIPTION:Hear tales of family mysteries from two local authors at the library Tuesday\, January 16 at 6:30 p.m.  Rose Bingham and Doris Green will both read from their new books and answer questions.  Copies of the books will be available for purchase and signing.  Contact Meagan at 643-8318 with questions.\n\nRose Bingham is the author of Buy the Little Ones a Dolly\, a memoir about moving forward after the disappearance of her mother. The story will appeal to both adults and teenagers who have gone through life's tragedies\, as well as readers who are looking for human interest stories. Rose is a retired nurse who graduated from St. Francis School of Nursing in LaCrosse\, WI and received her BSN from the University of Wisconsin-Madison. In addition to writing her memoir\, she enjoys writing poetry. Rose and her husband\, Mike\, reside in Wisconsin Dells\, and have six children\, seventeen grandchildren\, twelve great-grandchildren\, and a spoiled dog\, Rylee.\n\nDoris Green is the author of Elsie's Story. Haunted by her aunt's death in a northern Wisconsin tavern\, Doris Green seeks answers. She embarks on a decades-long search using a combination of journalistic inquiry\, family history research\, and even hypnosis and other alternative ways of knowing. The quest leads to secrets\, surprises\, and\, finally\, a solution. Elsie's Story is Doris's fourth nonfiction book for general audiences. She co-founded and published Wisconsin Community Banker magazine for the former Community Bankers of Wisconsin and was a communications specialist with the School of Human Ecology at the University of Wisconsin-Madison.  Doris lives with her husband and three distracting cats in a log house near Spring Green\, Wisconsin.
X-ALT-DESC;FMTTYPE=text/html:<div>\n<div>\n<div>\n<p>Hear tales of family mysteries from two local authors at the library Tuesday\, January 16 at 6:30 p.m.&nbsp\; Rose Bingham and Doris Green will both read from their new books and answer questions.&nbsp\; Copies of the books will be available for purchase and signing.&nbsp\; Contact Meagan at 643-8318 with questions.</p>\n\n<p>Rose Bingham is the author of <em>Buy the Little Ones a Dolly</em>\, a memoir about moving forward after the disappearance of her mother. The story will appeal to both adults and teenagers who have gone through life&#39\;s tragedies\, as well as readers who are looking for human interest stories. Rose is a retired nurse who graduated from St. Francis School of Nursing in LaCrosse\, WI and received her BSN from the University of Wisconsin-Madison. In addition to writing her memoir\, she enjoys writing poetry. Rose and her husband\, Mike\, reside in Wisconsin Dells\, and have six children\, seventeen grandchildren\, twelve great-grandchildren\, and a spoiled dog\, Rylee.</p>\n\n<p>Doris Green is the author of <em>Elsie&#39\;s Story.</em> Haunted by her aunt&#39\;s death in a northern Wisconsin tavern\, Doris Green seeks answers. She embarks on a decades-long search using a combination of journalistic inquiry\, family history research\, and even hypnosis and other alternative ways of knowing. The quest leads to secrets\, surprises\, and\, finally\, a solution. <em>Elsie&#39\;s Story </em>is Doris&#39\;s fourth nonfiction book for general audiences. She co-founded and published Wisconsin Community Banker magazine for the former Community Bankers of Wisconsin and was a communications specialist with the School of Human Ecology at the University of Wisconsin-Madison.&nbsp\; Doris lives with her husband and three distracting cats in a log house near Spring Green\, Wisconsin.</p>\n</div>\n</div>\n</div>\n
LOCATION:Ruth Culver Community Library 540 Water Street\, Prairie du Sac
UID:e.1184.14580
SEQUENCE:3
DTSTAMP:20260424T180259Z
URL:http://members.saukprairie.com/events/details/family-mysteries-with-local-authors-14580
END:VEVENT

END:VCALENDAR
