BEGIN:VCALENDAR
VERSION:2.0
PRODID:-//ChamberMaster//Event Calendar 2.0//EN
METHOD:PUBLISH
X-PUBLISHED-TTL:P3D
REFRESH-INTERVAL:P3D
CALSCALE:GREGORIAN
BEGIN:VEVENT
DTSTART:20230222T230000Z
DTEND:20230223T000000Z
X-MICROSOFT-CDO-ALLDAYEVENT:FALSE
SUMMARY:Family Night at the Library
DESCRIPTION:Come one\, come all to a fun family night at the library! Join us each month for a themed read aloud and activity. This month we'll be creating bird feeders from milk cartons. Visit the library or call us at 608-643-8346 to sign up today!
X-ALT-DESC;FMTTYPE=text/html:Come one\, come all to a fun family night at the library! Join us each month for a themed read aloud and activity. This month we&#39\;ll be creating bird feeders from milk cartons. Visit the library or call us at 608-643-8346 to sign up today!
LOCATION:615 Phillips Blvd. Sauk City\, WI 53583
UID:e.1184.29912
SEQUENCE:3
DTSTAMP:20260420T180740Z
URL:http://members.saukprairie.com/events/details/family-night-at-the-library-02-22-2023-29912
END:VEVENT

END:VCALENDAR
