BEGIN:VCALENDAR
VERSION:2.0
PRODID:-//ChamberMaster//Event Calendar 2.0//EN
METHOD:PUBLISH
X-PUBLISHED-TTL:P3D
REFRESH-INTERVAL:P3D
CALSCALE:GREGORIAN
BEGIN:VEVENT
DTSTART:20230426T220000Z
DTEND:20230426T230000Z
X-MICROSOFT-CDO-ALLDAYEVENT:FALSE
SUMMARY:Family Night at the Library
DESCRIPTION:Enjoy a fun-filled family night at the library! Each month we will cover a different theme that includes a read aloud and activity. This month we'll be holding worm races. Visit the library or call us at 608-643-8346 to sign up today!
X-ALT-DESC;FMTTYPE=text/html:Enjoy a fun-filled family night at the library! Each month we will cover a different theme that includes a read aloud and activity. This month we&#39\;ll be holding worm races. Visit the library or call us at 608-643-8346 to sign up today!
LOCATION:615 Phillips Blvd. Sauk City\, WI 53583
UID:e.1184.30716
SEQUENCE:3
DTSTAMP:20260420T155536Z
URL:http://members.saukprairie.com/events/details/family-night-at-the-library-04-26-2023-30716
END:VEVENT

END:VCALENDAR
