BEGIN:VCALENDAR
VERSION:2.0
PRODID:-//ChamberMaster//Event Calendar 2.0//EN
METHOD:PUBLISH
X-PUBLISHED-TTL:P3D
REFRESH-INTERVAL:P3D
CALSCALE:GREGORIAN
BEGIN:VEVENT
DTSTART:20221017T220000Z
DTEND:20221017T230000Z
X-MICROSOFT-CDO-ALLDAYEVENT:FALSE
SUMMARY:Family Night at the Library
DESCRIPTION:Come for a fun-filled family night at the library. Join us for a read aloud followed by an activity for the whole family\, based on a new theme each month. This month's theme is pumpkins and costume. Everyone's invited to come in costume and families can paint and decorate pumpkins to take home. Visit the library or call us at 608-643-8346 to sign up today!
X-ALT-DESC;FMTTYPE=text/html:Come for a fun-filled family night at the library. Join us for a read aloud followed by an activity for the whole family\, based on a new theme each month. This month&rsquo\;s theme is pumpkins and costume. Everyone&#39\;s invited to come in costume and families can paint and decorate pumpkins to take home. Visit the library or call us at 608-643-8346 to sign up today!
LOCATION:615 Phillips Blvd Sauk City\, WI 53583
UID:e.1184.28728
SEQUENCE:3
DTSTAMP:20260421T033619Z
URL:http://members.saukprairie.com/events/details/family-night-at-the-library-10-17-2022-28728
END:VEVENT

END:VCALENDAR
