BEGIN:VCALENDAR
VERSION:2.0
PRODID:-//ChamberMaster//Event Calendar 2.0//EN
METHOD:PUBLISH
X-PUBLISHED-TTL:P3D
REFRESH-INTERVAL:P3D
CALSCALE:GREGORIAN
BEGIN:VEVENT
DTSTART;VALUE=DATE:20221116
DTEND;VALUE=DATE:20221117
TRANSP:TRANSPARENT
X-MICROSOFT-CDO-ALLDAYEVENT:TRUE
SUMMARY:Family Night at the Library
DESCRIPTION:Come for a fun-filled family night at the library. Join us for a read aloud followed by an activity for the whole family\, based on a new theme each month. This month's theme is Thanksgiving. Families will be making personalized Thanksgiving table decorations. Visit the library or call us at 608-643-8346 to sign up today!
X-ALT-DESC;FMTTYPE=text/html:Come for a fun-filled family night at the library. Join us for a read aloud followed by an activity for the whole family\, based on a new theme each month. This month&rsquo\;s theme is Thanksgiving. Families will be making personalized Thanksgiving table decorations. Visit the library or call us at 608-643-8346 to sign up today!
LOCATION:615 Phillips Blvd. Sauk City\, WI 53583
UID:e.1184.28765
SEQUENCE:3
DTSTAMP:20260421T022541Z
URL:http://members.saukprairie.com/events/details/family-night-at-the-library-10-17-2022-28765
END:VEVENT

END:VCALENDAR
