BEGIN:VCALENDAR
VERSION:2.0
PRODID:-//ChamberMaster//Event Calendar 2.0//EN
METHOD:PUBLISH
X-PUBLISHED-TTL:P3D
REFRESH-INTERVAL:P3D
CALSCALE:GREGORIAN
BEGIN:VEVENT
DTSTART:20221221T230000Z
DTEND:20221222T000000Z
X-MICROSOFT-CDO-ALLDAYEVENT:FALSE
SUMMARY:Family Night at the Library
DESCRIPTION:Come for a fun-filled family night at the library. Join us for a read aloud followed by an activity for the whole family\, based on a new theme each month. This month's theme is gingerbread houses. After the story\, families will be making houses out of different foods. Visit the library or call us at 608-643-8346 to sign up today!
X-ALT-DESC;FMTTYPE=text/html:Come for a fun-filled family night at the library. Join us for a read aloud followed by an activity for the whole family\, based on a new theme each month. This month&rsquo\;s theme is gingerbread houses. After the story\, families will be making houses out of different foods. Visit the library or call us at 608-643-8346 to sign up today!
LOCATION:615 Phillips Blvd\, Sauk City\, WI 53583
UID:e.1184.28794
SEQUENCE:3
DTSTAMP:20260421T004325Z
URL:http://members.saukprairie.com/events/details/family-night-at-the-library-12-21-2022-28794
END:VEVENT

END:VCALENDAR
