BEGIN:VCALENDAR
VERSION:2.0
PRODID:-//ChamberMaster//Event Calendar 2.0//EN
METHOD:PUBLISH
X-PUBLISHED-TTL:P3D
REFRESH-INTERVAL:P3D
CALSCALE:GREGORIAN
BEGIN:VEVENT
DTSTART:20220921T220000Z
DTEND:20220921T230000Z
X-MICROSOFT-CDO-ALLDAYEVENT:FALSE
SUMMARY:Family Night at the Library
DESCRIPTION:Come for a fun-filled family night at the library. Join us for a read aloud followed by an activity for the whole family\, based on a new theme each month. This month's theme is pizza! At the end of the program\, families will make a pizza they can take home and bake. Sign up today!
X-ALT-DESC;FMTTYPE=text/html:Come for a fun-filled family night at the library. Join us for a read aloud followed by an activity for the whole family\, based on a new theme each month. This month&rsquo\;s theme is pizza! At the end of the program\, families will make a pizza they can take home and bake. Sign up today!
LOCATION:615 Phillips Blvd\, Sauk City 53583
UID:e.1184.28674
SEQUENCE:3
DTSTAMP:20260421T061637Z
URL:http://members.saukprairie.com/events/details/family-night-at-the-library-28674
END:VEVENT

END:VCALENDAR
