BEGIN:VCALENDAR
VERSION:2.0
PRODID:-//ChamberMaster//Event Calendar 2.0//EN
METHOD:PUBLISH
X-PUBLISHED-TTL:P3D
REFRESH-INTERVAL:P3D
CALSCALE:GREGORIAN
BEGIN:VEVENT
DTSTART:20230308T000000Z
DTEND:20230308T014500Z
X-MICROSOFT-CDO-ALLDAYEVENT:FALSE
SUMMARY:Family Paint Night
DESCRIPTION:The Ruth Culver Community Library's annual family art night is back in person! We'll have blank canvases and plenty of paint for everyone in your family to create their own art! (No instruction will take place\, but inspiration will be provided.) Open to all ages. Space is limited. Registration is required and can be done online at https://ruthculver.librarycalendar.com/event/family-paint-night or by calling the library at 608-643-8318. Please register each family member.
X-ALT-DESC;FMTTYPE=text/html:<span style="font-size:16px">The Ruth Culver Community Library&#39\;s annual family art night is back in person! We&#39\;ll have blank canvases and plenty of paint for everyone in your family to create their own art! (No instruction will take place\, but inspiration will&nbsp\;be provided.) Open to all ages. Space is limited.&nbsp\;Registration is required and can be done online at https://ruthculver.librarycalendar.com/event/family-paint-night&nbsp\;or by calling the library at 608-643-8318.&nbsp\;Please register each family member.</span>
LOCATION:Ruth Culver Community Library 540 Water Street Prairie du Sac\, WI 53578
UID:e.1184.29918
SEQUENCE:3
DTSTAMP:20260420T165454Z
URL:http://members.saukprairie.com/events/details/family-paint-night-29918
END:VEVENT

END:VCALENDAR
