BEGIN:VCALENDAR
VERSION:2.0
PRODID:-//ChamberMaster//Event Calendar 2.0//EN
METHOD:PUBLISH
X-PUBLISHED-TTL:P3D
REFRESH-INTERVAL:P3D
CALSCALE:GREGORIAN
BEGIN:VEVENT
DTSTART;VALUE=DATE:20240305
DTEND;VALUE=DATE:20240306
TRANSP:TRANSPARENT
X-MICROSOFT-CDO-ALLDAYEVENT:TRUE
SUMMARY:Family Paint Night
DESCRIPTION:Family Paint Night @ Ruth Culver Community Library in Prairie du Sac starting @ 6 PM\n\n\n\nOur annual family paint night is back! We'll have a variety of canvases and plenty of paint for everyone in your family to create their own art! (No instruction will take place\, but inspiration will be provided.) Open to all ages. Registration is required: https://ruthculver.librarycalendar.com/.../family-paint.... Please register each family member.
X-ALT-DESC;FMTTYPE=text/html:Family Paint Night @ Ruth Culver Community Library in Prairie du Sac starting @ 6 PM<br />\n<br />\nOur annual family paint night is back! We&#39\;ll have a variety of canvases and plenty of paint for everyone in your family to create their own art! (No instruction will take place\, but inspiration will be provided.) Open to all ages. Registration is required:&nbsp\;<a font-size:="" href="https://ruthculver.librarycalendar.com/event/family-paint-night-4757?fbclid=IwAR3Y7chhqhqvGMquv0m8_E9LOO4mu3uE9jvGhliVsMMOXShSALHcmdNlb4w" rel="nofollow noreferrer" role="link" segoe="" tabindex="0" target="_blank" ui="">https://ruthculver.librarycalendar.com/.../family-paint...</a><a href="https://ruthculver.librarycalendar.com/event/family-paint-night-4757?fbclid=IwAR3Y7chhqhqvGMquv0m8_E9LOO4mu3uE9jvGhliVsMMOXShSALHcmdNlb4w">. </a>Please register each family member.
LOCATION:Ruth Culver Community Library - Prairie du Sac
UID:e.1184.31569
SEQUENCE:3
DTSTAMP:20260419T232503Z
URL:http://members.saukprairie.com/events/details/family-paint-night-31569
END:VEVENT

END:VCALENDAR
