BEGIN:VCALENDAR
VERSION:2.0
PRODID:-//ChamberMaster//Event Calendar 2.0//EN
METHOD:PUBLISH
X-PUBLISHED-TTL:P3D
REFRESH-INTERVAL:P3D
CALSCALE:GREGORIAN
BEGIN:VEVENT
DTSTART:20161105T150000Z
DTEND:20161105T160000Z
X-MICROSOFT-CDO-ALLDAYEVENT:FALSE
SUMMARY:Fantastic Beast Hunt
DESCRIPTION:Get excited for the November 18 movie release of Fantastic Beasts and Where to Find Them based on J. K. Rowling's 2001 book of the same name.\n\nMake your wand and then search the library for magical beasts from the wizarding world of Harry Potter.\n\nEnd your quest with a glass of butter beer (non-alcoholic).
X-ALT-DESC;FMTTYPE=text/html:<p>Get excited for the November 18 movie release of Fantastic Beasts and Where to Find Them based on J. K. Rowling&rsquo\;s 2001 book of the same name.</p>\n\n<p>Make your wand and then search the library for magical beasts from the wizarding world of Harry Potter.</p>\n\n<p>End your quest with a glass of butter beer (non-alcoholic).</p>\n
LOCATION:Sauk City Public Library 515 Water St. Sauk City\, WI
UID:e.1184.9394
SEQUENCE:3
DTSTAMP:20260425T160749Z
URL:http://members.saukprairie.com/events/details/fantastic-beast-hunt-9394
END:VEVENT

END:VCALENDAR
