BEGIN:VCALENDAR
VERSION:2.0
PRODID:-//ChamberMaster//Event Calendar 2.0//EN
METHOD:PUBLISH
X-PUBLISHED-TTL:P3D
REFRESH-INTERVAL:P3D
CALSCALE:GREGORIAN
BEGIN:VEVENT
DTSTART;VALUE=DATE:20221001
DTEND;VALUE=DATE:20221011
TRANSP:TRANSPARENT
X-MICROSOFT-CDO-ALLDAYEVENT:TRUE
SUMMARY:Farm/Art DTour Returns Oct 1-10\, 2022
DESCRIPTION:Farm/Art DTour\, also known as Fermentation Fest\, is a free\, multi-faceted food and farming event that celebrates live culture in all its forms. The biennial Farm / Art DTour will return in 2022\, with trailheads in Plain and Sauk City. This self-guided drive through working farmland will be punctuated by site-responsive artwork\, roadside poetry. culture and food stands\, pasture performances and educational field notes. A select handful of fermentation demonstrations\, interactive workshops and tastings may be held at the Witwen Park and Campground.\n\nSee artwork inspired by the land\, hear songbirds\, cows and pasture performances\, smell fresh cut hay and campfires\, discover roadside poetry around the next bend in the road\, and enjoy local delicacies. Get curious and come closer.\n\nJoin thousands of fellow wanderers from down the road a piece\, or hundred of miles away\, as we come to our senses and celebrate live culture in all its forms.\n\nVisit wormfarminstitute.org for all the DTails!
X-ALT-DESC;FMTTYPE=text/html:<div class="m8h3af8h l7ghb35v kjdc1dyq kmwttqpk gh25dzvf" style="overflow-wrap: break-word\; margin: 0px\; font-family: &quot\;Segoe UI Historic&quot\;\, &quot\;Segoe UI&quot\;\, Helvetica\, Arial\, sans-serif\; color: rgb(5\, 5\, 5)\; font-size: 15px\;">Farm/Art DTour\, also known as Fermentation Fest\, is a free\, multi-faceted food and farming event that celebrates live culture in all its forms. The biennial Farm / Art DTour will return in 2022\, with trailheads in Plain and Sauk City. This self-guided drive through working farmland will be punctuated by site-responsive artwork\, roadside poetry. culture and food stands\, pasture performances and educational field notes. A select handful of fermentation demonstrations\, interactive workshops and tastings may be held at the Witwen Park and Campground.</div>\n\n<div class="l7ghb35v kjdc1dyq kmwttqpk gh25dzvf jikcssrz" style="overflow-wrap: break-word\; margin: 0.5em 0px 0px\; font-family: &quot\;Segoe UI Historic&quot\;\, &quot\;Segoe UI&quot\;\, Helvetica\, Arial\, sans-serif\; color: rgb(5\, 5\, 5)\; font-size: 15px\;">See artwork inspired by the land\, hear songbirds\, cows and pasture performances\, smell fresh cut hay and campfires\, discover roadside poetry around the next bend in the road\, and enjoy local delicacies. Get curious and come closer.</div>\n\n<div class="l7ghb35v kjdc1dyq kmwttqpk gh25dzvf jikcssrz" style="overflow-wrap: break-word\; margin: 0.5em 0px 0px\; font-family: &quot\;Segoe UI Historic&quot\;\, &quot\;Segoe UI&quot\;\, Helvetica\, Arial\, sans-serif\; color: rgb(5\, 5\, 5)\; font-size: 15px\;">Join thousands of fellow wanderers from down the road a piece\, or hundred of miles away\, as we come to our senses and celebrate live culture in all its forms.</div>\n\n<div class="l7ghb35v kjdc1dyq kmwttqpk gh25dzvf jikcssrz" style="overflow-wrap: break-word\; margin: 0.5em 0px 0px\; font-family: &quot\;Segoe UI Historic&quot\;\, &quot\;Segoe UI&quot\;\, Helvetica\, Arial\, sans-serif\; color: rgb(5\, 5\, 5)\; font-size: 15px\;">Visit&nbsp\;<a class="qi72231t nu7423ey n3hqoq4p r86q59rh b3qcqh3k fq87ekyn bdao358l fsf7x5fv rse6dlih s5oniofx m8h3af8h l7ghb35v kjdc1dyq kmwttqpk srn514ro oxkhqvkx rl78xhln nch0832m cr00lzj9 rn8ck1ys s3jn8y49 icdlwmnq cxfqmxzd ezidihy3" href="http://wormfarminstitute.org/?fbclid=IwAR1_nkxilfwOjVzrD2oCyLwmCFU_juvOay7y5MgRKxCwhdhS6TMg46NYJUk" rel="nofollow noopener" role="link" style="color: var(--blue-link)\; cursor: pointer\; text-decoration-line: none\; outline: none\; list-style: none\; border-width: 0px\; border-style: initial\; border-color: initial\; box-sizing: border-box\; text-align: inherit\; margin: 0px\; padding: 0px\; background-color: transparent\; -webkit-tap-highlight-color: transparent\; display: inline\; touch-action: manipulation\; font-family: inherit\;" tabindex="0" target="_blank">wormfarminstitute.org</a>&nbsp\;for all the DTails!</div>\n
LOCATION:
UID:e.1184.28702
SEQUENCE:3
DTSTAMP:20260421T050512Z
URL:http://members.saukprairie.com/events/details/farm-art-dtour-returns-oct-1-10-2022-28702
END:VEVENT

END:VCALENDAR
