BEGIN:VCALENDAR
VERSION:2.0
PRODID:-//ChamberMaster//Event Calendar 2.0//EN
METHOD:PUBLISH
X-PUBLISHED-TTL:P3D
REFRESH-INTERVAL:P3D
CALSCALE:GREGORIAN
BEGIN:VEVENT
DTSTART:20200620T140000Z
DTEND:20200620T170000Z
X-MICROSOFT-CDO-ALLDAYEVENT:FALSE
SUMMARY:Farmer's Market
DESCRIPTION:We provide locally grown fresh vegetables\, some berries\, baked goods to support the October Feed My Starving Children Mobilepack\, Fair Trade roasted coffee beans\, locally raised tilapia fish via aquaponics\, all-natural body products and artisan crafted perfume oils\, hand-crafted products for personal use and gift-giving\, honey when it is available.\n\nPlease contact Sue Dohm\, market manager\, at gardens4sp@hotmail.com \n\nOr: 608-643-8445
X-ALT-DESC;FMTTYPE=text/html:<p style="margin: 0in 0in 10pt\;"><font color="#000000" face="Calibri" size="3">We provide locally grown fresh vegetables\, some berries\, baked goods to support the October Feed My Starving Children Mobilepack\, Fair Trade roasted coffee beans\, locally raised tilapia fish via aquaponics\, all-natural body products and artisan crafted perfume oils\, hand-crafted products for personal use and gift-giving\, honey when it is available.</font></p>\n\n<p style="margin: 0in 0in 10pt\;"><font color="#000000" face="Calibri" size="3">Please contact Sue Dohm\, market manager\, at </font><a href="mailto:gardens4sp@hotmail.com"><font color="#0000ff" face="Calibri" size="3">gardens4sp@hotmail.com</font></a><font color="#000000" face="Calibri" size="3"> </font></p>\n\n<p style="margin: 0in 0in 10pt\;"><font color="#000000" face="Calibri" size="3">Or: 608-643-8445</font></p>\n
LOCATION:In the green space across from the Bonham Theatre 564 Water Street\, Prairie du Sac\, WI 53578
UID:e.1184.25225
SEQUENCE:3
DTSTAMP:20260422T225007Z
URL:http://members.saukprairie.com/events/details/farmer-s-market-06-20-2020-25225
END:VEVENT

END:VCALENDAR
