BEGIN:VCALENDAR
VERSION:2.0
PRODID:-//ChamberMaster//Event Calendar 2.0//EN
METHOD:PUBLISH
X-PUBLISHED-TTL:P3D
REFRESH-INTERVAL:P3D
CALSCALE:GREGORIAN
BEGIN:VEVENT
DTSTART:20220424T000000Z
DTEND:20220424T020000Z
X-MICROSOFT-CDO-ALLDAYEVENT:FALSE
SUMMARY:Father Daughter Dance
DESCRIPTION:Join us for our first annual Father Daughter Dance! Open to girls of all ages with any adult! $20 per couple\, $5 each additional child. Saturday April 23\, 7:00-9:00 at Sauk Prairie Ice Arena (the ice has been removed for the season). Formal attire\, red carpet\, DJ\, Photographer\, Refreshments\, special memories
X-ALT-DESC;FMTTYPE=text/html:Join us for our first annual Father Daughter Dance! Open to girls of all ages with any adult! $20 per couple\, $5 each additional child. Saturday April 23\, 7:00-9:00 at Sauk Prairie Ice Arena (the ice has been removed for the season). Formal attire\, red carpet\, DJ\, Photographer\, Refreshments\, special memories
LOCATION:Sauk Prairie Ice Arena (ice removed for the season) 1700 Tower St\, PDS
UID:e.1184.27411
SEQUENCE:3
DTSTAMP:20260421T133827Z
URL:http://members.saukprairie.com/events/details/father-daughter-dance-27411
END:VEVENT

END:VCALENDAR
