BEGIN:VCALENDAR
VERSION:2.0
PRODID:-//ChamberMaster//Event Calendar 2.0//EN
METHOD:PUBLISH
X-PUBLISHED-TTL:P3D
REFRESH-INTERVAL:P3D
CALSCALE:GREGORIAN
BEGIN:VEVENT
DTSTART:20220619T170000Z
DTEND:20220619T220000Z
X-MICROSOFT-CDO-ALLDAYEVENT:FALSE
SUMMARY:Father's Day at Wollersheim
DESCRIPTION:Sunday\, June 19th\, 2022 | 12pm   5pm\n\nEnjoy $5 Prairie Fum  and Wollersheim Old Fashioneds.\n\nHappy Father's Day!
X-ALT-DESC;FMTTYPE=text/html:<div class="kvgmc6g5 cxmmr5t8 oygrvhab hcukyx3x c1et5uql" style="overflow-wrap: break-word\; margin: 0px\; font-family: &quot\;Segoe UI Historic&quot\;\, &quot\;Segoe UI&quot\;\, Helvetica\, Arial\, sans-serif\; color: rgb(5\, 5\, 5)\; font-size: 15px\;">Sunday\, June 19th\, 2022 | 12pm &ndash\; 5pm</div>\n\n<div class="cxmmr5t8 oygrvhab hcukyx3x c1et5uql o9v6fnle" style="overflow-wrap: break-word\; margin: 0.5em 0px 0px\; font-family: &quot\;Segoe UI Historic&quot\;\, &quot\;Segoe UI&quot\;\, Helvetica\, Arial\, sans-serif\; color: rgb(5\, 5\, 5)\; font-size: 15px\;">Enjoy $5 Prairie Fum&eacute\; and Wollersheim Old Fashioneds.</div>\n\n<div class="cxmmr5t8 oygrvhab hcukyx3x c1et5uql o9v6fnle" style="overflow-wrap: break-word\; margin: 0.5em 0px 0px\; font-family: &quot\;Segoe UI Historic&quot\;\, &quot\;Segoe UI&quot\;\, Helvetica\, Arial\, sans-serif\; color: rgb(5\, 5\, 5)\; font-size: 15px\;">Happy Father&rsquo\;s Day!</div>\n
LOCATION:Wollsheim Winery & Distillery 7876 State Rd. 188 Prairie du Sac\, WI 53578
UID:e.1184.27661
SEQUENCE:3
DTSTAMP:20260421T120429Z
URL:http://members.saukprairie.com/events/details/father-s-day-at-wollersheim-27661
END:VEVENT

END:VCALENDAR
