BEGIN:VCALENDAR
VERSION:2.0
PRODID:-//ChamberMaster//Event Calendar 2.0//EN
METHOD:PUBLISH
X-PUBLISHED-TTL:P3D
REFRESH-INTERVAL:P3D
CALSCALE:GREGORIAN
BEGIN:VEVENT
DTSTART:20240511T150000Z
DTEND:20240511T160000Z
X-MICROSOFT-CDO-ALLDAYEVENT:FALSE
SUMMARY:Fearless! Youth Paint Night with Jyneal Radke (Mother's Day Mom & Me Special)
DESCRIPTION:Fearless! Youth Paint Nights with Jyneal Radke\n\n\n\nAges 8-12\n\n\n\nInstructor Jyneal will guide kids through creating a unique acrylic painting on a 12 x 12  canvas from start to finish! We'll work on color mixing\, paint texture techniques\, and have a blast along the way! Stay tuned for each of the painting subjects to be announced soon! All classes are standalone   register for just one or all of them!\n\n\n\n**Mom & Me Painting Class!  Saturday 10am-11am. Celebrate mom by working together on two 12 12 paintings\, led by instructor Jyneal Radke of Fearless Paint Nights. Each registration includes one adult and one child\, two canvases\, brushes\, paint\, aprons\, and instructor. This session is open to anyone who identifies as a mother/guardian or\, regardless of gender\, identifies with 'Father's' Day or just wants to celebrate the weekend with family.  Register more than one child for an additional $5!\n\n\n\nParents can drop kids off and come back or wait in the gallery. Kids only in the studio!\n\n\n\nIf you are interested in this workshop but are experiencing a financial barrier\, you can apply for a scholarship by clicking on the link on the website or here: https://docs.google.com/forms/d/e/1FAIpQLSd_Az2LcMbjuwqxgpu4JjLrXfxVrOcL3Oa0Y7LGM4i5x1aUSQ/viewform\n\n\n\n\n\nRegistration closes the Wednesday before the scheduled event.
X-ALT-DESC;FMTTYPE=text/html:Fearless! Youth Paint Nights with Jyneal Radke<br />\n<br />\nAges 8-12<br />\n<br />\nInstructor Jyneal will guide kids through creating a unique acrylic painting on a 12 x 12&Prime\; canvas from start to finish! We&rsquo\;ll work on color mixing\, paint texture techniques\, and have a blast along the way! Stay tuned for each of the painting subjects to be announced soon! All classes are standalone &ndash\; register for just one or all of them!<br />\n<br />\n**Mom &amp\; Me Painting Class!&nbsp\; Saturday 10am-11am. Celebrate mom by working together on two 12&times\;12 paintings\, led by instructor Jyneal Radke of Fearless Paint Nights. Each registration includes one adult and one child\, two canvases\, brushes\, paint\, aprons\, and instructor. This session is open to anyone who identifies as a mother/guardian or\, regardless of gender\, identifies with &lsquo\;Father&rsquo\;s&rsquo\; Day or just wants to celebrate the weekend with family.&nbsp\; Register more than one child for an additional $5!<br />\n<br />\nParents can drop kids off and come back or wait in the gallery. Kids only in the studio!<br />\n<br />\nIf you are interested in this workshop but are experiencing a financial barrier\, you can apply for a scholarship by clicking on the link on the website or here: https://docs.google.com/forms/d/e/1FAIpQLSd_Az2LcMbjuwqxgpu4JjLrXfxVrOcL3Oa0Y7LGM4i5x1aUSQ/viewform<br />\n<br />\n<br />\nRegistration closes the Wednesday before the scheduled event.
LOCATION:River Arts on Water 590 Water St Prairie du Sac
UID:e.1184.32336
SEQUENCE:3
DTSTAMP:20260419T221459Z
URL:http://members.saukprairie.com/events/details/fearless-youth-paint-night-with-jyneal-radke-mother-s-day-mom-me-special-32336
END:VEVENT

END:VCALENDAR
