BEGIN:VCALENDAR
VERSION:2.0
PRODID:-//ChamberMaster//Event Calendar 2.0//EN
METHOD:PUBLISH
X-PUBLISHED-TTL:P3D
REFRESH-INTERVAL:P3D
CALSCALE:GREGORIAN
BEGIN:VEVENT
DTSTART:20240224T000000Z
DTEND:20240224T010000Z
X-MICROSOFT-CDO-ALLDAYEVENT:FALSE
SUMMARY:Fearless! Youth Paint Nights with Jyneal Radke at River Arts Gallery
DESCRIPTION:Ages 8-12\n\nInstructor Jyneal will guide kids through creating a unique acrylic painting on a 12 x 12  canvas from start to finish! We'll work on color mixing\, paint texture techniques\, and have a blast along the way! Stay tuned for each of the painting subjects to be announced soon! All classes are standalone   register for just one or all of them!\n\nParents can drop kids off and come back or wait in the gallery. Kids only in the studio!\n\nIf you are interested in this workshop but are experiencing a financial barrier\, you can apply for a scholarship by clicking here\n\nScroll down for a preview of the upcoming project and this season's Fearless! Youth Paint Night Dates!\n\nRegistration closes the Wednesday before the scheduled event.
X-ALT-DESC;FMTTYPE=text/html:<p><strong>Ages 8-12</strong></p>\n\n<p>Instructor Jyneal will guide kids through creating a unique acrylic painting on a 12 x 12&Prime\; canvas from start to finish! We&rsquo\;ll work on color mixing\, paint texture techniques\, and have a blast along the way! Stay tuned for each of the painting subjects to be announced soon! All classes are standalone &ndash\; register for just one or all of them!</p>\n\n<p>Parents can drop kids off and come back or wait in the gallery. Kids only in the studio!</p>\n\n<p>If you are interested in this workshop but are experiencing a financial barrier\, you can apply for a scholarship by clicking&nbsp\;<a href="https://docs.google.com/forms/d/e/1FAIpQLSd_Az2LcMbjuwqxgpu4JjLrXfxVrOcL3Oa0Y7LGM4i5x1aUSQ/viewform?usp=sf_link" style="padding: 0px\; margin: 0px\; text-decoration-line: none\; color: rgb(50\, 74\, 178) !important\;">here</a></p>\n\n<p>Scroll down for a preview of the upcoming project and this season&rsquo\;s Fearless! Youth Paint Night Dates!</p>\n\n<p>Registration closes the Wednesday before the scheduled event.</p>\n
LOCATION:River Arts Gallery on Water 590 Water St Prairie du Sac\, WI 53578
UID:e.1184.31489
SEQUENCE:3
DTSTAMP:20260420T003756Z
URL:http://members.saukprairie.com/events/details/fearless-youth-paint-nights-with-jyneal-radke-at-river-arts-gallery-31489
END:VEVENT

END:VCALENDAR
