BEGIN:VCALENDAR
VERSION:2.0
PRODID:-//ChamberMaster//Event Calendar 2.0//EN
METHOD:PUBLISH
X-PUBLISHED-TTL:P3D
REFRESH-INTERVAL:P3D
CALSCALE:GREGORIAN
BEGIN:VEVENT
DTSTART:20190828T203000Z
DTEND:20190829T010000Z
X-MICROSOFT-CDO-ALLDAYEVENT:FALSE
SUMMARY:Female Athlete Empowerment Symposium
DESCRIPTION:We are pleased to announce our first Female Athlete Empowerment Symposium in Sauk Prairie. Our goal for the symposium is to provide speakers that will educate\, motivate\, inspire and empower our female high school athletes to make positive choices and develop into strong\, confident\, female leaders of their sports teams\, schools\, professions\, families\, and communities. This symposium will empower female-athletes to make change for tomorrow.
X-ALT-DESC;FMTTYPE=text/html:We are pleased to announce our first Female Athlete Empowerment Symposium in Sauk Prairie. Our goal for the symposium is to provide speakers that will educate\, motivate\, inspire and empower our female high school athletes to make positive choices and develop into strong\, confident\, female leaders of their sports teams\, schools\, professions\, families\, and communities. This symposium will empower female-athletes to make change for tomorrow.
LOCATION:Sauk Prairie High School
UID:e.1184.22582
SEQUENCE:3
DTSTAMP:20260423T124730Z
URL:http://members.saukprairie.com/events/details/female-athlete-empowerment-symposium-22582
END:VEVENT

END:VCALENDAR
