BEGIN:VCALENDAR
VERSION:2.0
PRODID:-//ChamberMaster//Event Calendar 2.0//EN
METHOD:PUBLISH
X-PUBLISHED-TTL:P3D
REFRESH-INTERVAL:P3D
CALSCALE:GREGORIAN
BEGIN:VEVENT
DTSTART;VALUE=DATE:20231007
DTEND;VALUE=DATE:20231009
TRANSP:TRANSPARENT
X-MICROSOFT-CDO-ALLDAYEVENT:TRUE
SUMMARY:Fermentation Fest 2023
DESCRIPTION:Join the live culture convergence!\n\nFermentation Fest: Spirits Edition will be a weekend jam-packed with events in a beautiful rural setting that celebrate live culture\, innovative land stewardship\, and the significance of rural places. The keynote a reading by ethnobotanist Gary Paul Nabhan from his new book Agave Spirits: The Past\, Present\, and Future of Mezcals will explore distilled spirits and their plant origins. Plus a variety of "kindred spirits:"\n\n\n	Great local things to eat and drink\n	Artworks that engage with local Native culture and wetland conservation\n	Presentations by historians\, farmers\, and fermenters\n	Live music and delicious tasting events\n	Artist-made zines\, educational activities & more!\n\n\nWhile most of this "live culture convergence" will be free\, a few special demos and classes will require tickets.\n\n\n\nClick here for full event details.
X-ALT-DESC;FMTTYPE=text/html:<h2 style="box-sizing: inherit\; font-family: Poppins\, sans-serif\; font-weight: 700\; font-size: 32px\; line-height: 43px\; margin-bottom: 8px\; margin-top: 40px\; color: rgb(0\, 0\, 0)\;">Join the live culture convergence!</h2>\n\n<p style="box-sizing: inherit\; font-family: Barlow\, sans-serif\; font-size: 19px\; line-height: 32px\; margin-bottom: 13px\; color: rgb(0\, 0\, 0)\; margin-top: 0px\;">Fermentation Fest: Spirits Edition will be a weekend jam-packed with events in a beautiful rural setting that celebrate live culture\, innovative land stewardship\, and the significance of rural places. The keynote&mdash\;a reading by ethnobotanist Gary Paul Nabhan from his new book&nbsp\;<em style="box-sizing: inherit\;">Agave Spirits: The Past\, Present\, and Future of Mezcals</em>&mdash\;will explore distilled spirits and their plant origins. Plus a variety of &ldquo\;kindred spirits:&quot\;</p>\n\n<ul style="box-sizing: inherit\; font-family: Barlow\, sans-serif\; font-size: 19px\; line-height: 32px\; margin-bottom: 13px\; color: rgb(0\, 0\, 0)\; margin-top: 0px\;">\n	<li style="box-sizing: inherit\;">Great local things to eat and drink</li>\n	<li style="box-sizing: inherit\;">Artworks that engage with local Native culture and wetland conservation</li>\n	<li style="box-sizing: inherit\;">Presentations by historians\, farmers\, and fermenters</li>\n	<li style="box-sizing: inherit\;">Live music and delicious tasting events</li>\n	<li style="box-sizing: inherit\;">Artist-made zines\, educational activities &amp\; more!</li>\n</ul>\n\n<p style="box-sizing: inherit\; font-family: Barlow\, sans-serif\; font-size: 19px\; line-height: 32px\; margin-bottom: 13px\; color: rgb(0\, 0\, 0)\; margin-top: 0px\;">While most of this &quot\;live culture convergence&quot\; will be free\, a few special demos and classes will require tickets.<br />\n<br />\n<a href="https://www.wormfarminstitute.org/programs/ferm-fest-2023">Click here for full event details.</a></p>\n
LOCATION:Witwen Park S9855 County Rd E Sauk City\, WI 53583
UID:e.1184.31022
SEQUENCE:3
DTSTAMP:20260420T061730Z
URL:http://members.saukprairie.com/events/details/fermentation-fest-2023-31022
END:VEVENT

END:VCALENDAR
