BEGIN:VCALENDAR
VERSION:2.0
PRODID:-//ChamberMaster//Event Calendar 2.0//EN
METHOD:PUBLISH
X-PUBLISHED-TTL:P3D
REFRESH-INTERVAL:P3D
CALSCALE:GREGORIAN
BEGIN:VEVENT
DTSTART;VALUE=DATE:20210925
DTEND;VALUE=DATE:20210927
TRANSP:TRANSPARENT
X-MICROSOFT-CDO-ALLDAYEVENT:TRUE
SUMMARY:Fermentation Fest: Grassland Edition
DESCRIPTION:FERMENTATION FEST: GRASSLAND EDITION HAPPENING SEPT 25-26\, 2021\n\n\n\n"Grazin' in the grass is a gas\, baby\, can you dig it?"\n\n \n\nFermentation Fest is back this fall with a two-day celebration of live culture in all its forms. For this special Grassland Edition\, Wormfarm Institute has partnered with researchers at the Grassland 2.0 project (University of Wisconsin Madison) to showcase regenerative\, grassland-based agriculture. \n\n \n\nPresented at the historic Witwen Park & Campground in Sauk County\, WI\, the fest will include demos\, art\, performances from dance to "Grassical" music in an open-air Tabernacle to Scandanavian cow calling\, local food\, fermented beverages & more. Fermentation Fest is free to attend\; concert tickets and tickets for special fermentation events are available for online purchase now.
X-ALT-DESC;FMTTYPE=text/html:<div class="_1Q9if" data-testid="richTextElement" id="comp-kpy6dspd" style="margin: 15px 0px 21px\; padding: 0px\; border: 0px\; outline: 0px\; vertical-align: baseline\; background: transparent\; font-variant-numeric: inherit\; font-variant-east-asian: inherit\; font-stretch: inherit\; font-size: medium\; line-height: inherit\; font-family: &quot\;Times New Roman&quot\;\; pointer-events: none\; overflow-wrap: break-word\; min-height: var(--min-height)\; position: relative\; left: 0px\; grid-area: 1 / 1 / 2 / 2\; place-self: start\; width: 455px\; height: auto\; color: rgb(0\, 0\, 0)\;">\n<h1 class="font_0" style="margin: 0px\; padding: 0px\; border: 0px\; outline: 0px\; vertical-align: baseline\; background: transparent\; font-size: 20px\; line-height: normal\; pointer-events: auto\; color: rgb(var(--color_15))\;"><span style="margin: 0px\; padding: 0px\; border: 0px\; outline: 0px\; vertical-align: baseline\; background: transparent\; font-style: inherit\; font-variant: inherit\; font-weight: inherit\; font-stretch: inherit\; line-height: inherit\; font-family: inherit\;">FERMENTATION FEST: GRASSLAND EDITION HAPPENING SEPT 25-26\, 2021</span></h1>\n</div>\n\n<div class="_1Q9if" data-testid="richTextElement" id="comp-kpy6exmf" style="margin: 0px\; padding: 0px\; border: 0px\; outline: 0px\; vertical-align: baseline\; background: transparent\; font-variant-numeric: inherit\; font-variant-east-asian: inherit\; font-stretch: inherit\; font-size: medium\; line-height: inherit\; font-family: &quot\;Times New Roman&quot\;\; pointer-events: none\; overflow-wrap: break-word\; min-height: var(--min-height)\; position: relative\; left: 0px\; grid-area: 2 / 1 / 3 / 2\; place-self: start\; width: 432px\; height: auto\; --min-height:275px\; color: rgb(0\, 0\, 0)\;">\n<p class="font_8" style="margin: 0px\; padding: 0px\; border: 0px\; outline: 0px\; vertical-align: baseline\; background: transparent\; font-size: 18px\; line-height: normal\; pointer-events: auto\; color: rgb(var(--color_15))\;">&ldquo\;Grazin&rsquo\; in the grass is a gas\, baby\, can you dig it?&rdquo\;</p>\n\n<p class="font_8" style="margin: 0px\; padding: 0px\; border: 0px\; outline: 0px\; vertical-align: baseline\; background: transparent\; font-size: 18px\; line-height: normal\; pointer-events: auto\; color: rgb(var(--color_15))\;">&nbsp\;</p>\n\n<p class="font_8" style="margin: 0px\; padding: 0px\; border: 0px\; outline: 0px\; vertical-align: baseline\; background: transparent\; font-size: 18px\; line-height: normal\; pointer-events: auto\; color: rgb(var(--color_15))\;">Fermentation Fest is back this fall with a two-day celebration of live culture in all its forms. For this special Grassland Edition\, Wormfarm Institute has partnered with researchers at the&nbsp\;<span style="margin: 0px\; padding: 0px\; border: 0px\; outline: 0px\; vertical-align: baseline\; background: transparent\; font: inherit\; color: rgb(124\, 154\, 97)\;"><span style="margin: 0px\; padding: 0px\; border: 0px\; outline: 0px\; vertical-align: baseline\; background: transparent\; font-style: inherit\; font-variant: inherit\; font-weight: bold\; font-stretch: inherit\; font-size: inherit\; line-height: inherit\; font-family: inherit\;"><span style="margin: 0px\; padding: 0px\; border: 0px\; outline: 0px\; vertical-align: baseline\; background: transparent\; font: inherit\; text-decoration-line: underline\;"><a href="https://grasslandag.org/" rel="noopener" style="margin: 0px\; padding: 0px\; border: 0px\; outline: 0px\; vertical-align: baseline\; background: transparent\; cursor: pointer\; text-decoration-line: none\; font: inherit\; -webkit-tap-highlight-color: rgba(0\, 0\, 0\, 0)\; color: inherit\;" target="_blank">Grassland 2.0</a></span></span></span>&nbsp\;project (University of Wisconsin&ndash\;Madison) to showcase regenerative\, grassland-based agriculture.&nbsp\;</p>\n\n<p class="font_8" style="margin: 0px\; padding: 0px\; border: 0px\; outline: 0px\; vertical-align: baseline\; background: transparent\; font-size: 18px\; line-height: normal\; pointer-events: auto\; color: rgb(var(--color_15))\;">&nbsp\;</p>\n\n<p class="font_8" style="margin: 0px\; padding: 0px\; border: 0px\; outline: 0px\; vertical-align: baseline\; background: transparent\; font-size: 18px\; line-height: normal\; pointer-events: auto\; color: rgb(var(--color_15))\;">Presented at the historic Witwen Park &amp\; Campground in Sauk County\, WI\, the fest will include demos\, art\, performances from dance to &ldquo\;Grassical&rdquo\; music in an open-air Tabernacle to Scandanavian cow calling\, local food\, fermented beverages &amp\; more. Fermentation Fest is free to attend\; concert tickets and tickets for special fermentation events are available for online purchase now.&nbsp\;</p>\n</div>\n
LOCATION:
UID:e.1184.26888
SEQUENCE:3
DTSTAMP:20260421T230845Z
URL:http://members.saukprairie.com/events/details/fermentation-fest-grassland-edition-26888
END:VEVENT

END:VCALENDAR
