BEGIN:VCALENDAR
VERSION:2.0
PRODID:-//ChamberMaster//Event Calendar 2.0//EN
METHOD:PUBLISH
X-PUBLISHED-TTL:P3D
REFRESH-INTERVAL:P3D
CALSCALE:GREGORIAN
BEGIN:VEVENT
DTSTART:20190529T210000Z
DTEND:20190529T220000Z
X-MICROSOFT-CDO-ALLDAYEVENT:FALSE
SUMMARY:Ferry Bluff Celebration
DESCRIPTION:Groundswell Conservancy and Ferry Bluff Eagle Council invite you to celebrate the addition of 31 acres at Ferry Bluff State Natural Area!\n\n\n\nThanks to many generous donors\, along with a grant from the State of Wisconsin Knowles-Nelson Stewardship Program\, this additional land was purchased last fall. Expanding Ferry Bluff will keep development away from a current eagle roost\, protect potential roost areas\, and restore native ecosystems for myriad other species that inhabit this area.\n\n\n\nThis celebration is on the newly acquired land on Huerth Road\, on the south side of Ferry Bluff. The newly acquired land is located just before Bluff View Canoe Rentals.\n\n\n\nThere will be a short program with refreshments. Afterward we hope you will join us on a hike up Ferry Bluff for an eagle-eye view of the Wisconsin River valley.\n\n\n\nThis celebration is free and open to the public\, but registration is encouraged. Please register online or call us at 608-258-9797 by Friday\, May 24th.
X-ALT-DESC;FMTTYPE=text/html:<span style="color: rgb(29\, 33\, 41)\; font-family: Helvetica\, Arial\, sans-serif\; font-size: 14px\; white-space: pre-wrap\;">Groundswell Conservancy and Ferry Bluff Eagle Council invite you to celebrate the addition of 31 acres at Ferry Bluff State Natural Area!</span><br style="color: rgb(29\, 33\, 41)\; font-family: Helvetica\, Arial\, sans-serif\; font-size: 14px\; white-space: pre-wrap\;" />\n<br style="color: rgb(29\, 33\, 41)\; font-family: Helvetica\, Arial\, sans-serif\; font-size: 14px\; white-space: pre-wrap\;" />\n<span style="color: rgb(29\, 33\, 41)\; font-family: Helvetica\, Arial\, sans-serif\; font-size: 14px\; white-space: pre-wrap\;">Thanks to many generous donors\, along with a grant from the State of Wisconsin Knowles-Nelson Stewardship Program\, this additional land was purchased last fall. Expanding Ferry Bluff will keep development away from a current eagle roost\, protect potential roost areas\, and restore native ecosystems for myriad other species that inhabit this area.</span><br style="color: rgb(29\, 33\, 41)\; font-family: Helvetica\, Arial\, sans-serif\; font-size: 14px\; white-space: pre-wrap\;" />\n<br style="color: rgb(29\, 33\, 41)\; font-family: Helvetica\, Arial\, sans-serif\; font-size: 14px\; white-space: pre-wrap\;" />\n<span style="color: rgb(29\, 33\, 41)\; font-family: Helvetica\, Arial\, sans-serif\; font-size: 14px\; white-space: pre-wrap\;">This celebration is on the newly acquired land on Huerth Road\, on the south side of Ferry Bluff. The newly acquired land is located just before Bluff View Canoe Rentals.</span><br style="color: rgb(29\, 33\, 41)\; font-family: Helvetica\, Arial\, sans-serif\; font-size: 14px\; white-space: pre-wrap\;" />\n<br style="color: rgb(29\, 33\, 41)\; font-family: Helvetica\, Arial\, sans-serif\; font-size: 14px\; white-space: pre-wrap\;" />\n<span style="color: rgb(29\, 33\, 41)\; font-family: Helvetica\, Arial\, sans-serif\; font-size: 14px\; white-space: pre-wrap\;">There will be a short program with refreshments. Afterward we hope you will join us on a hike up Ferry Bluff for an eagle-eye view of the Wisconsin River valley.</span><br style="color: rgb(29\, 33\, 41)\; font-family: Helvetica\, Arial\, sans-serif\; font-size: 14px\; white-space: pre-wrap\;" />\n<br style="color: rgb(29\, 33\, 41)\; font-family: Helvetica\, Arial\, sans-serif\; font-size: 14px\; white-space: pre-wrap\;" />\n<span style="color: rgb(29\, 33\, 41)\; font-family: Helvetica\, Arial\, sans-serif\; font-size: 14px\; white-space: pre-wrap\;">This celebration is free and open to the public\, but registration is encouraged. Please register online or call us at 608-258-9797 by Friday\, May 24th.</span>
LOCATION:E10014 Huerth Road\, Prairie du Sac
UID:e.1184.22372
SEQUENCE:3
DTSTAMP:20260423T171421Z
URL:http://members.saukprairie.com/events/details/ferry-bluff-celebration-22372
END:VEVENT

END:VCALENDAR
