BEGIN:VCALENDAR
VERSION:2.0
PRODID:-//ChamberMaster//Event Calendar 2.0//EN
METHOD:PUBLISH
X-PUBLISHED-TTL:P3D
REFRESH-INTERVAL:P3D
CALSCALE:GREGORIAN
BEGIN:VEVENT
DTSTART:20240128T140000Z
DTEND:20240128T200000Z
X-MICROSOFT-CDO-ALLDAYEVENT:FALSE
SUMMARY:FFA Toy Show and Pancake Breakfast
DESCRIPTION:FFA Toy Show and Pancake Breakfast\n\nSunday January 28th\, 2024 @ Bridges Elementary Cafeteria and Gym\n\n\n\nBreakfast 8am-11:30am\n\nToy Show Starts at 8:30AM\n\n\n\nAdmission Includes Breakfast from 8:00 - 11:30 - Adults $12 Kids $6\n\nAdmission After 11:30 - 2:00 - Adults $4 Kids $3\n\nhttps://saukprairieffa.com/toyshow/
X-ALT-DESC;FMTTYPE=text/html:<u><strong><span font-size:="" segoe="" style="color: rgb(5\, 5\, 5)\; font-family: " ui="">FFA Toy Show and Pancake Breakfast</span></strong></u><br font-size:="" segoe="" style="color: rgb(5\, 5\, 5)\; font-family: " ui="" />\n<span font-size:="" segoe="" style="color: rgb(5\, 5\, 5)\; font-family: " ui="">Sunday January 28th\, 2024 @ Bridges Elementary Cafeteria and Gym</span><br font-size:="" segoe="" style="color: rgb(5\, 5\, 5)\; font-family: " ui="" />\n<br />\n<span font-size:="" segoe="" style="color: rgb(5\, 5\, 5)\; font-family: " ui="">Breakfast 8am-11:30am<br />\nToy Show Starts at 8:30AM</span><br font-size:="" segoe="" style="color: rgb(5\, 5\, 5)\; font-family: " ui="" />\n<br font-size:="" segoe="" style="color: rgb(5\, 5\, 5)\; font-family: " ui="" />\n<span font-size:="" segoe="" style="color: rgb(5\, 5\, 5)\; font-family: " ui="">Admission Includes Breakfast from 8:00 - 11:30 - Adults $12 Kids $6</span><br font-size:="" segoe="" style="color: rgb(5\, 5\, 5)\; font-family: " ui="" />\n<span font-size:="" segoe="" style="color: rgb(5\, 5\, 5)\; font-family: " ui="">Admission After 11:30 - 2:00 - Adults $4 Kids $3</span><br />\n<u><strong><a href="https://saukprairieffa.com/toyshow/">https://saukprairieffa.com/toyshow/</a></strong></u>
LOCATION:Bridges Elementary Cafeteria and Gym
UID:e.1184.31535
SEQUENCE:3
DTSTAMP:20260420T020323Z
URL:http://members.saukprairie.com/events/details/ffa-toy-show-and-pancake-breakfast-31535
END:VEVENT

END:VCALENDAR
