BEGIN:VCALENDAR
VERSION:2.0
PRODID:-//ChamberMaster//Event Calendar 2.0//EN
METHOD:PUBLISH
X-PUBLISHED-TTL:P3D
REFRESH-INTERVAL:P3D
CALSCALE:GREGORIAN
BEGIN:VEVENT
DTSTART:20200110T204500Z
DTEND:20200110T221500Z
X-MICROSOFT-CDO-ALLDAYEVENT:FALSE
SUMMARY:Fighting Spirits' Basketball vs. Buccaneer Basketball
DESCRIPTION:The UW-Platteville Baraboo Sauk County Fighting Spirits' basketball team combat the UW-Green Bay Marinette Buccaneer basketball team
X-ALT-DESC;FMTTYPE=text/html:The UW-Platteville Baraboo Sauk County Fighting Spirits&#39\; basketball team combat the UW-Green Bay Marinette Buccaneer basketball team
LOCATION:University of Wisconsin - Platteville Baraboo Sauk County Campus
UID:e.1184.23851
SEQUENCE:3
DTSTAMP:20260423T054039Z
URL:http://members.saukprairie.com/events/details/fighting-spirits-basketball-vs-charger-basketball-01-10-2020-23851
END:VEVENT

END:VCALENDAR
