BEGIN:VCALENDAR
VERSION:2.0
PRODID:-//ChamberMaster//Event Calendar 2.0//EN
METHOD:PUBLISH
X-PUBLISHED-TTL:P3D
REFRESH-INTERVAL:P3D
CALSCALE:GREGORIAN
BEGIN:VEVENT
DTSTART:20200206T011500Z
DTEND:20200206T031500Z
X-MICROSOFT-CDO-ALLDAYEVENT:FALSE
SUMMARY:Fighting Spirits' Basketball vs. Marauder's Basketball
DESCRIPTION:The UW-Platteville Baraboo Sauk County Fighting Spirits' basketball team battle the UW-Stevens Point Marshfield Marauders' basketball team
X-ALT-DESC;FMTTYPE=text/html:The UW-Platteville Baraboo Sauk County Fighting Spirits&#39\; basketball team battle the UW-Stevens Point Marshfield Marauders&#39\; basketball team
LOCATION:University of Wisconsin - Platteville Baraboo Sauk County Campus
UID:e.1184.23853
SEQUENCE:3
DTSTAMP:20260423T054110Z
URL:http://members.saukprairie.com/events/details/fighting-spirits-basketball-vs-marauder-s-basketball-23853
END:VEVENT

END:VCALENDAR
