BEGIN:VCALENDAR
VERSION:2.0
PRODID:-//ChamberMaster//Event Calendar 2.0//EN
METHOD:PUBLISH
X-PUBLISHED-TTL:P3D
REFRESH-INTERVAL:P3D
CALSCALE:GREGORIAN
BEGIN:VEVENT
DTSTART:20241006T000000Z
DTEND:20241006T013000Z
X-MICROSOFT-CDO-ALLDAYEVENT:FALSE
SUMMARY:Figure Drawing with Derek Hibbs
DESCRIPTION:Figure Drawing with Derek Hibbs\n\n590 Water St\, Prairie du Sac\, WI 53578\n\nSaturday\, October 12 2024 | 8a-4p | Deadline to register: October 5\, 2024\n\n$120 + $6 kit fee\n\nAges 18+\n\nIntroduction to drawing the human form from a live model. Student will receive instruction on drawing basics and different styles of drawing techniques utilizing graphite and charcoal. We will work through instruction and guidance in the morning by completing a series of shorter gestural sketches then gradually work our way into increasingly longer poses. Following the lunch break\, we will spend the afternoon working on a 3 hour complete figure study. Students should be aware when enrolling that the model may be nude or partially clothed based on their comfort level.\n\nKit fee includes:Paper\, newsprint\, and drawing boards will be provided\n\nStudents should bring: General basic drawing kit including a variety of graphite pencils and charcoal\n\nArtist Bio: Derek received his BFA in printmaking from Indiana University-Purdue University Fort Wayne and MFA in Studio Art (printmaking) from the University of Wisconsin-Madison. Currently Derek is a full time preparator at the Chazen Museum of Art\, and a part time instructor at Madison College teaching 2D design. Residing in Madison\, WI\, Derek has a fully functional home print studio set up for his own work\, and occasionally works with a number of local artists collaboratively to produce a wide variety of fine art prints. Derek's work has addressed a range of topics from climate change\, social/political concerns\, and the internal struggle\, and is often inspired by art history. His most recent works have been lighthearted\, nature based\, and not loaded with such heavy content.
X-ALT-DESC;FMTTYPE=text/html:<p><strong>Figure Drawing with Derek Hibbs</strong></p>\n\n<p><strong>590 Water St\, Prairie du Sac\, WI 53578</strong></p>\n\n<p><strong>Saturday\, October 12 2024 | 8a-4p</strong>&nbsp\;| Deadline to register: October 5\, 2024</p>\n\n<p><strong>$120 + $6 kit fee</strong></p>\n\n<p><strong>Ages 18+</strong></p>\n\n<p>Introduction to drawing the human form from a live model. Student will receive instruction on drawing basics and different styles of drawing techniques utilizing graphite and charcoal. We will work through instruction and guidance in the morning by completing a series of shorter gestural sketches then gradually work our way into increasingly longer poses. Following the lunch break\, we will spend the afternoon working on a 3 hour complete figure study. Students should be aware when enrolling that the model may be nude or partially clothed based on their comfort level.</p>\n\n<p><strong>Kit fee includes:</strong>Paper\, newsprint\, and drawing boards will be provided</p>\n\n<p><strong>Students should bring:</strong>&nbsp\;General basic drawing kit including a variety of graphite pencils and charcoal</p>\n\n<p><strong>Artist Bio:&nbsp\;</strong>Derek received his BFA in printmaking from Indiana University-Purdue University Fort Wayne and MFA in Studio Art (printmaking) from the University of Wisconsin-Madison. Currently Derek is a full time preparator at the Chazen Museum of Art\, and a part time instructor at Madison College teaching 2D design. Residing in Madison\, WI\, Derek has a fully functional home print studio set up for his own work\, and occasionally works with a number of local artists collaboratively to produce a wide variety of fine art prints. Derek&rsquo\;s work has addressed a range of topics from climate change\, social/political concerns\, and the internal struggle\, and is often inspired by art history. His most recent works have been lighthearted\, nature based\, and not loaded with such heavy content.</p>\n
LOCATION:River Arts Center
UID:e.1184.33445
SEQUENCE:3
DTSTAMP:20260419T155452Z
URL:http://members.saukprairie.com/events/details/figure-drawing-with-derek-hibbs-33445
END:VEVENT

END:VCALENDAR
