BEGIN:VCALENDAR
VERSION:2.0
PRODID:-//ChamberMaster//Event Calendar 2.0//EN
METHOD:PUBLISH
X-PUBLISHED-TTL:P3D
REFRESH-INTERVAL:P3D
CALSCALE:GREGORIAN
BEGIN:VEVENT
DTSTART:20181102T160000Z
DTEND:20181102T180000Z
X-MICROSOFT-CDO-ALLDAYEVENT:FALSE
SUMMARY:Filet on a Stix
DESCRIPTION:THIS IS NO TRICK -- TREAT yoruself to filet on a stix!\n\n\n\nFriday\, November 2nd\n\n11am-1pm\n\n\n\nPlease call in large orders: 644-1213
X-ALT-DESC;FMTTYPE=text/html:THIS IS NO TRICK -- TREAT yoruself to filet on a stix!<br />\n<br />\nFriday\, November 2nd<br />\n11am-1pm<br />\n<br />\nPlease call in large orders: 644-1213&nbsp\;&nbsp\;&nbsp\;&nbsp\;
LOCATION:Wyttenbach Meats 1940 Prairie Street Prairie du Sac\, WI 53578
UID:e.1184.21428
SEQUENCE:3
DTSTAMP:20260424T021758Z
URL:http://members.saukprairie.com/events/details/filet-on-a-stix-21428
END:VEVENT

END:VCALENDAR
