BEGIN:VCALENDAR
VERSION:2.0
PRODID:-//ChamberMaster//Event Calendar 2.0//EN
METHOD:PUBLISH
X-PUBLISHED-TTL:P3D
REFRESH-INTERVAL:P3D
CALSCALE:GREGORIAN
BEGIN:VEVENT
DTSTART:20210113T190000Z
DTEND:20210113T200000Z
X-MICROSOFT-CDO-ALLDAYEVENT:FALSE
SUMMARY:Financials on the Farm
DESCRIPTION:This month's event will be a two-part presentation featuring Peggy Olive\, University of Wisconsin\, Division of Extension Financial Capabilities Specialist discussing "Helping Others Reach Their Financial Goals." Then Mike Lochner and Frank Friar from DATCP will be highlighting Wisconsin Farm Center financial assistance programs.
X-ALT-DESC;FMTTYPE=text/html:This month&#39\;s event will be a two-part presentation featuring Peggy Olive\, University of Wisconsin\, Division of Extension Financial Capabilities Specialist discussing &quot\;Helping Others Reach Their Financial Goals.&quot\; Then Mike Lochner and Frank Friar from DATCP will be highlighting Wisconsin Farm Center financial assistance programs.
LOCATION:Virtual session via zoom link
UID:e.1184.26168
SEQUENCE:3
DTSTAMP:20260422T104428Z
URL:http://members.saukprairie.com/events/details/financials-on-the-farm-26168
END:VEVENT

END:VCALENDAR
