BEGIN:VCALENDAR
VERSION:2.0
PRODID:-//ChamberMaster//Event Calendar 2.0//EN
METHOD:PUBLISH
X-PUBLISHED-TTL:P3D
REFRESH-INTERVAL:P3D
CALSCALE:GREGORIAN
BEGIN:VEVENT
DTSTART:20190301T150000Z
DTEND:20190301T233000Z
X-MICROSOFT-CDO-ALLDAYEVENT:FALSE
SUMMARY:Fine Free Open House
DESCRIPTION:The Sauk City and Ruth Culver libraries are going fine free\, starting March 1. There will be no more fines for overdue materials. Charges for lost or damaged items will still apply.\n\nStop by both libraries for treats and to help us celebrate throughout the day.
X-ALT-DESC;FMTTYPE=text/html:The Sauk City and Ruth Culver libraries are going fine free\, starting March 1. There will be no more fines for overdue materials. Charges for lost or damaged items will still apply.<br />\nStop by both libraries for treats and to help us celebrate throughout the day.
LOCATION:515 Water Street Sauk City\, WI 53583 540 Water Street Prairie du Sac\, Wi 53578
UID:e.1184.22024
SEQUENCE:3
DTSTAMP:20260423T201600Z
URL:http://members.saukprairie.com/events/details/fine-free-open-house-22024
END:VEVENT

END:VCALENDAR
