BEGIN:VCALENDAR
VERSION:2.0
PRODID:-//ChamberMaster//Event Calendar 2.0//EN
METHOD:PUBLISH
X-PUBLISHED-TTL:P3D
REFRESH-INTERVAL:P3D
CALSCALE:GREGORIAN
BEGIN:VEVENT
DTSTART:20200328T000000Z
DTEND:20200328T020000Z
X-MICROSOFT-CDO-ALLDAYEVENT:FALSE
SUMMARY:Fire and Rain: The Music of James Taylor and Carole King
DESCRIPTION:Fire & Rain:  Featuring Jim Witter and Giselle Sanderson\n\nat the River Arts Center (high school) | 105-9th Street\, Prairie du Sac\, WI 53578\n\nFriday\, March 27th\, 2020 | 7pm-9pm\n\nTickets: $25/adults\, $10/students\n\n\nBRAND NEW SHOW!\n\nProlific singer-songwriters James Taylor and Carole King dominated the '70s airwaves with their singular vocals and lyrical brilliance. Now\, award-winning\, Juno-nominated artist Jim Witter returns to the River Arts Center stage for a 3rd time\, joined by his incredible band and the talented Giselle Sanderson. Together they will celebrate the timeless influence of Taylor and King\, whose songs earned them induction into the Songwriters Hall of Fame\, the Rock and Roll Hall of Fame\, and innumerable Grammy Awards. Get ready to ride a wave of emotion as Witter and Sanderson take concertgoers on a nostalgic musical journey with such unsurpassed tunes as "You've Got A Friend\," "It's Too Late\," "Shower The People\," and "Tapestry."
X-ALT-DESC;FMTTYPE=text/html:<p><strong>Fire &amp\; Rain:&nbsp\;&nbsp\;</strong><strong>Featuring Jim Witter and Giselle Sanderson</strong></p>\n\n<p><strong>at the River Arts Center (high school) | 105-9th Street\, Prairie du Sac\, WI 53578</strong></p>\n\n<p>Friday\, March 27th\, 2020 | 7pm-9pm</p>\n\n<p>Tickets: $25/adults\, $10/students</p>\n\n<hr />\n<p><strong>BRAND NEW SHOW!</strong></p>\n\n<p>Prolific singer-songwriters James Taylor and Carole King dominated the &lsquo\;70s airwaves with their singular vocals and lyrical brilliance. Now\, award-winning\, Juno-nominated artist Jim Witter returns to the River Arts Center stage for a 3<span style="font-size:9.75px">rd</span>&nbsp\;time\, joined by his incredible band and the talented Giselle Sanderson. Together they will celebrate the timeless influence of Taylor and King\, whose songs earned them induction into the Songwriters Hall of Fame\, the Rock and Roll Hall of Fame\, and innumerable Grammy Awards. Get ready to ride a wave of emotion as Witter and Sanderson take concertgoers on a nostalgic musical journey with such unsurpassed tunes as &ldquo\;You&rsquo\;ve Got A Friend\,&rdquo\; &ldquo\;It&rsquo\;s Too Late\,&rdquo\; &ldquo\;Shower The People\,&rdquo\; and &ldquo\;Tapestry.&rdquo\;</p>\n
LOCATION:River Arts Center 105 9th St Prairie du Sac\, WI 53578
UID:e.1184.22525
SEQUENCE:3
DTSTAMP:20260423T025556Z
URL:http://members.saukprairie.com/events/details/fire-and-rain-the-music-of-james-taylor-and-carole-king-22525
END:VEVENT

END:VCALENDAR
