BEGIN:VCALENDAR
VERSION:2.0
PRODID:-//ChamberMaster//Event Calendar 2.0//EN
METHOD:PUBLISH
X-PUBLISHED-TTL:P3D
REFRESH-INTERVAL:P3D
CALSCALE:GREGORIAN
BEGIN:VEVENT
DTSTART:20191009T230000Z
DTEND:20191010T010000Z
X-MICROSOFT-CDO-ALLDAYEVENT:FALSE
SUMMARY:Fire Prevention Open House
DESCRIPTION:ANNOUNCING OUR 2019 FIRE PREVENTION OPEN HOUSE! \n\nPlease join us on Wednesday Night\, October 9th for our annual Fire Prevention Open House. This year the National Fire Protection Association (NFPA) theme is "Not every hero wears a cape. Plan and practice your escape."\n\nWe invite you to join us for a night of fun and learning. We will have firetruck rides\, station tours\, free handouts and treats. Weather permitting\, UW Med Flight is scheduled to be landing on the ground near the station. Dane County Fire Chiefs Association and The MABA Fire Safety trailer will also be on hand with safety demonstrations. Dunkin Donuts of Sauk City will again be on hand with hot chocolate and donuts. More to come as well\, as we are planning for this event!
X-ALT-DESC;FMTTYPE=text/html:<span style="color: rgb(29\, 33\, 41)\; font-family: Helvetica\, Arial\, sans-serif\; font-size: 14px\; white-space: pre-wrap\;">ANNOUNCING OUR 2019 FIRE PREVENTION OPEN HOUSE! </span><br style="color: rgb(29\, 33\, 41)\; font-family: Helvetica\, Arial\, sans-serif\; font-size: 14px\; white-space: pre-wrap\;" />\n<span style="color: rgb(29\, 33\, 41)\; font-family: Helvetica\, Arial\, sans-serif\; font-size: 14px\; white-space: pre-wrap\;">Please join us on Wednesday Night\, October 9th for our annual Fire Prevention Open House. This year the National Fire Protection Association (NFPA) theme is &quot\;Not every hero wears a cape. Plan and practice your escape.&quot\;</span><br style="color: rgb(29\, 33\, 41)\; font-family: Helvetica\, Arial\, sans-serif\; font-size: 14px\; white-space: pre-wrap\;" />\n<span style="color: rgb(29\, 33\, 41)\; font-family: Helvetica\, Arial\, sans-serif\; font-size: 14px\; white-space: pre-wrap\;">We invite you to join us for a night of fun and learning. We will have firetruck rides\, station tours\, free handouts and treats. Weather permitting\, UW Med Flight is scheduled to be landing on the ground near the station. Dane County Fire Chiefs Association and The MABA Fire Safety trailer will also be on hand with safety demonstrations. Dunkin Donuts of Sauk City will again be on hand with hot chocolate and donuts. More to come as well\, as we are planning for this event!</span>
LOCATION:Sauk City Volunteer Fire Department 505 Van Buren St. Sauk City
UID:e.1184.23597
SEQUENCE:3
DTSTAMP:20260423T100030Z
URL:http://members.saukprairie.com/events/details/fire-prevention-open-house-23597
END:VEVENT

END:VCALENDAR
