BEGIN:VCALENDAR
VERSION:2.0
PRODID:-//ChamberMaster//Event Calendar 2.0//EN
METHOD:PUBLISH
X-PUBLISHED-TTL:P3D
REFRESH-INTERVAL:P3D
CALSCALE:GREGORIAN
BEGIN:VEVENT
DTSTART:20240719T210000Z
DTEND:20240720T010000Z
X-MICROSOFT-CDO-ALLDAYEVENT:FALSE
SUMMARY:Fish Fry & Craft/Vendor Fair @ The Park
DESCRIPTION:Welcome to Fish Fry @ The Park! Join us at Culver Community Park for a fun-filled night of delicious food and great company. Bring your friends and family for a relaxing outdoor event. Enjoy fresh fish\, tasty sides\, and refreshing drinks in a beautiful park setting. This night we will also be hosting a Craft & Vendor Fair from 4-8pm.\n\n \n\nFIsh Fry from 5-8pm: 2 piece Cod ($15) includes baked potato or fries with coleslaw and a roll from the Command Center Food Truck.  Pre-orders required at Eventbrite.com\n\n \n\nOther food and beverage (BEER\, SODA\, PIZZA\, etc.) available at the Prairie Landing Concessions stand as well! Is there anything more Wisconsin than a cold craft beer paired with an awesome Friday Fish Fry....and enjoyed outdoors with your friends & family?!\n\n \n\nIf interested in being a Vendor\, please fill out this form\, link below.\n\nhttps://docs.google.com/.../1RGB3AAyRHGsrQgqX.../edit\n\n \n\nWe can't wait to see you there!
X-ALT-DESC;FMTTYPE=text/html:<div>Welcome to Fish Fry @ The Park! Join us at Culver Community Park for a fun-filled night of delicious food and great company. Bring your friends and family for a relaxing outdoor event. Enjoy fresh fish\, tasty sides\, and refreshing drinks in a beautiful park setting. This night we will also be hosting a Craft &amp\; Vendor Fair from 4-8pm.<br />\n&nbsp\;</div>\n\n<div>FIsh Fry from 5-8pm: 2 piece Cod ($15) includes baked potato or fries with coleslaw and a roll from the Command Center Food Truck.&nbsp\;&nbsp\;<a href="https://www.eventbrite.com/e/fish-fry-and-craft-vendor-fair-the-park-tickets-891884660027?aff=ebdshpsearchautocomplete&amp\;_gl=1*1mpp3f*_up*MQ..&amp\;gclid=CjwKCAjwvvmzBhA2EiwAtHVrbxTh7oKH-PGrGGpb2SVxG1s-oLVIHQ0W24OPIUcauP09zWg5nrogrRoCCc4QAvD_BwE&amp\;gclsrc=aw.ds"><u><strong>Pre-orders required</strong>&nbsp\;at Eventbrite.com</u></a><br />\n&nbsp\;</div>\n\n<div>Other food and beverage (BEER\, SODA\, PIZZA\, etc.) available at the Prairie Landing Concessions stand as well! Is there anything more Wisconsin than a cold craft beer paired with an awesome Friday Fish Fry....and enjoyed outdoors with your friends &amp\; family?!<br />\n&nbsp\;</div>\n\n<div>If interested in being a Vendor\, please fill out this form\, link below.<br />\n<a href="https://docs.google.com/document/d/1RGB3AAyRHGsrQgqX-M218ZZGx6GBiCtjbWG2yMYcYDg/edit?fbclid=IwZXh0bgNhZW0CMTAAAR00W998CKDGb-_Syu-1ZMr0RLAAIQsKOygalVny7A1WR2KF_nGYXXpB36s_aem_AUIDy_Ip2xIlyhewlYSD45vCKxheoOlX9Wc38YFuIZcNexxhG1mO7pCyVjx3DnfjGZSb9UEwnTPrUwqhFRxll_bJ" rel="nofollow noreferrer" role="link" tabindex="0" target="_blank">https://docs.google.com/.../1RGB3AAyRHGsrQgqX.../edit</a><br />\n&nbsp\;</div>\n\n<div>We can&#39\;t wait to see you there!</div>\n
LOCATION:Culver Community Park
UID:e.1184.32629
SEQUENCE:3
DTSTAMP:20260419T192333Z
URL:http://members.saukprairie.com/events/details/fish-fry-craft-vendor-fair-the-park-32629
END:VEVENT

END:VCALENDAR
