BEGIN:VCALENDAR
VERSION:2.0
PRODID:-//ChamberMaster//Event Calendar 2.0//EN
METHOD:PUBLISH
X-PUBLISHED-TTL:P3D
REFRESH-INTERVAL:P3D
CALSCALE:GREGORIAN
BEGIN:VEVENT
DTSTART:20160604T120000Z
DTEND:20160604T210000Z
X-MICROSOFT-CDO-ALLDAYEVENT:FALSE
SUMMARY:Fishing for Heroes
DESCRIPTION:The time to get revenge for "The one that got away" is at hand at:\n\nFISHING FOR HEROES\n\n\n\nJoin our Catch & Release Tournament and raise money for Operation Eagles' Wings. Fish on the beautiful Wisconsin River and raise money for Badger Honor Flight at the same time. Contact Wayne Whitemarsh at wwhitemarsh@mcfarlanes.net for more information or stop by McFarlanes'.
X-ALT-DESC;FMTTYPE=text/html:The time to get revenge for &quot\;The one that got away&quot\; is at hand at:<br />\n<strong>FISHING FOR HEROES</strong><br />\n<br />\nJoin our Catch &amp\; Release Tournament and raise money for Operation Eagles&#39\; Wings. Fish on the beautiful Wisconsin River and raise money for Badger Honor Flight at the same time. Contact Wayne Whitemarsh at wwhitemarsh@mcfarlanes.net for more information or stop by McFarlanes&#39\;.<br />\n<br />\n&nbsp\;
LOCATION:VFW Park
UID:e.1184.8574
SEQUENCE:3
DTSTAMP:20260426T003606Z
URL:http://members.saukprairie.com/events/details/fishing-for-heroes-06-04-2016-8574
END:VEVENT

END:VCALENDAR
