BEGIN:VCALENDAR
VERSION:2.0
PRODID:-//ChamberMaster//Event Calendar 2.0//EN
METHOD:PUBLISH
X-PUBLISHED-TTL:P3D
REFRESH-INTERVAL:P3D
CALSCALE:GREGORIAN
BEGIN:VEVENT
DTSTART:20240622T140000Z
DTEND:20240622T153000Z
X-MICROSOFT-CDO-ALLDAYEVENT:FALSE
SUMMARY:Fitness on the Farm
DESCRIPTION:Join Prairie Raised Beef and Prairie Fire Yoga for a fun and active morning on the farm. Tammy will lead attendees through an on-farm circuit tone class\, where we'll flex our strength and focus on our fitness. Following the 45-minute class\, attendees are invited to stay for some post-workout recovery snacks with Prairie Raised Beef. Attendees are also invited to join Emily from Prairie Raised Beef for a farm tour and the opportunity to interact with calves following the class.\n\n\n\nWhen: June 22nd\, 9-10:30am\n\nWhere: E10481 Highway 60 Sauk City\, WI\n\nWhat to bring: A yoga mat (and towel for underneath if you're worried about dirt)\, A water bottle wear weather appropriate attire (example: tennis shoes\, sunscreen\, etc)\n\nCost: $25\n\n\n\nSign up here!
X-ALT-DESC;FMTTYPE=text/html:Join Prairie Raised Beef and Prairie Fire Yoga for a fun and active morning on the farm. Tammy will lead attendees through an on-farm circuit tone class\, where we&rsquo\;ll flex our strength and focus on our fitness. Following the 45-minute class\, attendees are invited to stay for some post-workout recovery snacks with Prairie Raised Beef. Attendees are also invited to join Emily from Prairie Raised Beef for a farm tour and the opportunity to interact with calves following the class.<br />\n<br />\nWhen:&nbsp\;June 22nd\, 9-10:30am<br />\nWhere:&nbsp\;E10481 Highway 60 Sauk City\, WI<br />\nWhat to bring:&nbsp\;A yoga mat (and towel for underneath if you&rsquo\;re worried about dirt)\, A water bottle wear weather appropriate attire (example: tennis shoes\, sunscreen\, etc)<br />\nCost:&nbsp\;$25<br />\n<br />\n<a href="https://www.prairiefireyoga.com/.../22/fitness-on-the-farm-1">Sign up here!</a>
LOCATION:
UID:e.1184.32403
SEQUENCE:3
DTSTAMP:20260419T192029Z
URL:http://members.saukprairie.com/events/details/fitness-on-the-farm-32403
END:VEVENT

END:VCALENDAR
