BEGIN:VCALENDAR
VERSION:2.0
PRODID:-//ChamberMaster//Event Calendar 2.0//EN
METHOD:PUBLISH
X-PUBLISHED-TTL:P3D
REFRESH-INTERVAL:P3D
CALSCALE:GREGORIAN
BEGIN:VEVENT
DTSTART:20170805T160000Z
DTEND:20170805T210000Z
X-MICROSOFT-CDO-ALLDAYEVENT:FALSE
SUMMARY:Flavors of Sauk Prairie
DESCRIPTION:Food | Family | Fun | Silent Auction | Games\n\n\n\nHot Dogs | Chips | Lemonade | Popcorn \n\n\n\nFood Competition from 11am-2pm\n\nVote for your favorite with your cash or check\n\n\n\nDonations Appreciated\, benefits the Sauk Prairie Against Hunger's Pack Event October 26-28.
X-ALT-DESC;FMTTYPE=text/html:Food | Family | Fun | Silent Auction | Games<br />\n<br />\nHot Dogs | Chips | Lemonade | Popcorn&nbsp\;<br />\n<br />\nFood Competition from 11am-2pm<br />\nVote for your favorite with your cash or check<br />\n<br />\nDonations Appreciated\, benefits the Sauk Prairie Against Hunger&#39\;s Pack Event October 26-28.
LOCATION:Graceway Church 13th St. & Lincoln
UID:e.1184.11843
SEQUENCE:3
DTSTAMP:20260425T014936Z
URL:http://members.saukprairie.com/events/details/flavors-of-sauk-prairie-11843
END:VEVENT

END:VCALENDAR
