BEGIN:VCALENDAR
VERSION:2.0
PRODID:-//ChamberMaster//Event Calendar 2.0//EN
METHOD:PUBLISH
X-PUBLISHED-TTL:P3D
REFRESH-INTERVAL:P3D
CALSCALE:GREGORIAN
BEGIN:VEVENT
DTSTART:20230424T140000Z
DTEND:20230507T170000Z
X-MICROSOFT-CDO-ALLDAYEVENT:FALSE
SUMMARY:Florence Park Clean-up
DESCRIPTION:Florence Park Clean-up\n\nWho: SP Kiwanis\, SPMS Builders\, SPHS Key Club \n\nand Florence Park Neighborhood\n\nWhat: Painting\, weeding and mulching\n\nWhen: Saturday\, May 6\, 9:00 AM- 12 noon       \n\nWhere: Florence Park\, Lincoln Ave. Prairie Du Sac\n\nPlease bring rakes\, trowels\, shovels\, and wear old clothes/shoes.\n\nTreats when finished!
X-ALT-DESC;FMTTYPE=text/html:<h1 style="font-style: italic\;"><span style="font-size:22px"><span style="font-family:verdana"><strong>&nbsp\;&nbsp\;Florence Park Clean-up</strong></span></span></h1>\n\n<p><span style="font-size:12px"><span style="font-family:comic sans ms"><span style="background-color:transparent\; color:rgb(0\, 0\, 0)">Who: SP Kiwanis\, SPMS Builders\, SPHS Key Club&nbsp\;</span></span></span></p>\n\n<p><span style="font-size:12px"><span style="font-family:comic sans ms"><span style="background-color:transparent\; color:rgb(0\, 0\, 0)">and Florence Park Neighborhood</span></span></span></p>\n\n<p><span style="font-size:12px"><span style="font-family:comic sans ms"><span style="background-color:transparent\; color:rgb(0\, 0\, 0)">What: Painting\, weeding and mulching</span></span></span></p>\n\n<p><span style="font-size:12px"><span style="font-family:comic sans ms"><span style="background-color:transparent\; color:rgb(0\, 0\, 0)">When: Saturday\, May 6\, 9:00 AM- 12 noon&nbsp\;&nbsp\;&nbsp\;&nbsp\;&nbsp\;&nbsp\;&nbsp\;</span></span></span></p>\n\n<p><span style="font-size:12px"><span style="font-family:comic sans ms"><span style="background-color:transparent\; color:rgb(0\, 0\, 0)">Where: Florence Park\, Lincoln Ave. Prairie Du Sac</span></span></span></p>\n\n<p><span style="font-size:14px"><span style="font-family:comic sans ms"><span style="background-color:transparent\; color:rgb(0\, 0\, 0)">Please bring rakes\, trowels\, shovels\, and wear old clothes/shoes.</span></span></span></p>\n\n<p style="text-align:center"><strong>Treats when finished!</strong></p>\n\n<div>&nbsp\;</div>\n
LOCATION:
UID:e.1184.30729
SEQUENCE:3
DTSTAMP:20260420T131826Z
URL:http://members.saukprairie.com/events/details/florence-park-clean-up-30729
END:VEVENT

END:VCALENDAR
