BEGIN:VCALENDAR
VERSION:2.0
PRODID:-//ChamberMaster//Event Calendar 2.0//EN
METHOD:PUBLISH
X-PUBLISHED-TTL:P3D
REFRESH-INTERVAL:P3D
CALSCALE:GREGORIAN
BEGIN:VEVENT
DTSTART;VALUE=DATE:20170728
DTEND;VALUE=DATE:20170729
TRANSP:TRANSPARENT
X-MICROSOFT-CDO-ALLDAYEVENT:TRUE
SUMMARY:Flow in the Dark Yoga
DESCRIPTION:Practice\, Love\, Glow and Sweat!\n\n\n\nRinse out your worries. Steep yourself in life's goodness. Rejoice in Summer. A Midsummer night's dream of yogic movement\, shining like fireflies in a dark field\, with a background of deep bass beats. Raise yourself to a new level\, mentally\, physically\, spiritually\, in the joyful company of our yogic/active community. These magical sessions are made complete with fun music\, fabulous tattoos\, and very desirable glowstick jewelry. The sassy\, smart Lyndsey will be your river guide for a juicy Flow and Glow yoga evening.\n\n\n\nWe recommend wearing white and neon for optimal visual effect under the black lights. $10 entry fee includes glow stick jewelry and temporary tattoos\, so be prepared to get down with your newly glowing self.
X-ALT-DESC;FMTTYPE=text/html:<p><span style="color: rgb(75\, 79\, 86)\; font-family: Helvetica\, Arial\, sans-serif\; font-size: 14px\;">Practice\, Love\, Glow and Sweat!</span></p>\n\n<p><br style="color: rgb(75\, 79\, 86)\; font-family: Helvetica\, Arial\, sans-serif\; font-size: 14px\;" />\n<span style="color: rgb(75\, 79\, 86)\; font-family: Helvetica\, Arial\, sans-serif\; font-size: 14px\;">Rinse out your worries. Steep yourself in life&#39\;s goodness. Rejoice in Summer. A Midsummer night&#39\;s dream of yogic movement\, shining like fireflies in a dark field\, with a background of deep bass beats. Raise yourself to a new level\, mentally\, physically\, spiritually\, in the joyful company of our yogic/active community. These magical sessions are made complete with fun music\, fabulous tattoos\, and very desirable glowstick jewelry. The sassy\, smart Lyndsey will be your river guide for a juicy Flow and Glow yoga evening.</span><br style="color: rgb(75\, 79\, 86)\; font-family: Helvetica\, Arial\, sans-serif\; font-size: 14px\;" />\n<br style="color: rgb(75\, 79\, 86)\; font-family: Helvetica\, Arial\, sans-serif\; font-size: 14px\;" />\n<span style="color: rgb(75\, 79\, 86)\; font-family: Helvetica\, Arial\, sans-serif\; font-size: 14px\;">We recommend wearing white and neon for optimal visual effect under the black lights. $10 entry fee includes glow stick jewelry and temporary tattoos\, so be prepared to get down with your newly glowing self.</span></p>\n
LOCATION:Prairie Fire Yoga
UID:e.1184.11833
SEQUENCE:3
DTSTAMP:20260425T032912Z
URL:http://members.saukprairie.com/events/details/flow-in-the-dark-yoga-11833
END:VEVENT

END:VCALENDAR
