BEGIN:VCALENDAR
VERSION:2.0
PRODID:-//ChamberMaster//Event Calendar 2.0//EN
METHOD:PUBLISH
X-PUBLISHED-TTL:P3D
REFRESH-INTERVAL:P3D
CALSCALE:GREGORIAN
BEGIN:VEVENT
DTSTART:20170118T010000Z
DTEND:20170118T030000Z
X-MICROSOFT-CDO-ALLDAYEVENT:FALSE
SUMMARY:Food\, Agriculture & Climate
DESCRIPTION:Food\, Agriculture & Climate\n\nProblems\, Solutions & Consumer Choices\n\n\n\nSpeaker: Aaron Pape (Conservation Coordinator\, Sauk County Conservation Department)\n\n\n\nA presentation and discussion on the risks climate change poses to our food and agriculture systems\, how agriculture both contributes to climate change and is part of the solution\, and how consumer choices can encourage the shift to climate friendly farming. \n\n\n\nThis event is free and open to the public.\n\n\n\nQuestions? Contact Aaron Pape (393-8722)
X-ALT-DESC;FMTTYPE=text/html:Food\, Agriculture &amp\; Climate<br />\nProblems\, Solutions &amp\; Consumer Choices<br />\n<br />\nSpeaker: Aaron Pape (Conservation Coordinator\, Sauk County Conservation Department)<br />\n<br />\nA presentation and discussion on the risks climate change poses to our food and agriculture systems\, how agriculture both contributes to climate change and is part of the solution\, and how consumer choices can encourage the shift to climate friendly farming.&nbsp\;<br />\n<br />\nThis event is free and open to the public.<br />\n<br />\nQuestions? Contact Aaron Pape (393-8722)
LOCATION:Sauk Prairie High School River Arts Gallery 105 9th Street\, Prairie du Sac\, WI 53578
UID:e.1184.9833
SEQUENCE:3
DTSTAMP:20260425T124523Z
URL:http://members.saukprairie.com/events/details/food-agriculture-climate-9833
END:VEVENT

END:VCALENDAR
