BEGIN:VCALENDAR
VERSION:2.0
PRODID:-//ChamberMaster//Event Calendar 2.0//EN
METHOD:PUBLISH
X-PUBLISHED-TTL:P3D
REFRESH-INTERVAL:P3D
CALSCALE:GREGORIAN
BEGIN:VEVENT
DTSTART:20160411T140000Z
DTEND:20160423T190000Z
X-MICROSOFT-CDO-ALLDAYEVENT:FALSE
SUMMARY:Food for Fines
DESCRIPTION:Bring in any amount of non-perishable food items\, and we will waive ALL your overdue fines. This does not apply to lost or damaged item fees. Donations will benefit the Sauk Prairie Area Food Pantry.
X-ALT-DESC;FMTTYPE=text/html:Bring in any amount of non-perishable food items\, and we will waive ALL your overdue fines. This does not apply to lost or damaged item fees. Donations will benefit the Sauk Prairie Area Food Pantry.
LOCATION:Sauk City Public Library 515 Water St. Sauk City\, WI
UID:e.1184.8418
SEQUENCE:3
DTSTAMP:20260426T033620Z
URL:http://members.saukprairie.com/events/details/food-for-fines-04-11-2016-8418
END:VEVENT

END:VCALENDAR
